BEGIN:VCALENDAR
VERSION:2.0
PRODID:-//Apalachicola Bay Chamber of Commerce - ECPv6.15.20//NONSGML v1.0//EN
CALSCALE:GREGORIAN
METHOD:PUBLISH
X-WR-CALNAME:Apalachicola Bay Chamber of Commerce
X-ORIGINAL-URL:https://www.apalachicolabay.org
X-WR-CALDESC:Events for Apalachicola Bay Chamber of Commerce
REFRESH-INTERVAL;VALUE=DURATION:PT1H
X-Robots-Tag:noindex
X-PUBLISHED-TTL:PT1H
BEGIN:VTIMEZONE
TZID:America/New_York
BEGIN:DAYLIGHT
TZOFFSETFROM:-0500
TZOFFSETTO:-0400
TZNAME:EDT
DTSTART:20240310T070000
END:DAYLIGHT
BEGIN:STANDARD
TZOFFSETFROM:-0400
TZOFFSETTO:-0500
TZNAME:EST
DTSTART:20241103T060000
END:STANDARD
BEGIN:DAYLIGHT
TZOFFSETFROM:-0500
TZOFFSETTO:-0400
TZNAME:EDT
DTSTART:20250309T070000
END:DAYLIGHT
BEGIN:STANDARD
TZOFFSETFROM:-0400
TZOFFSETTO:-0500
TZNAME:EST
DTSTART:20251102T060000
END:STANDARD
BEGIN:DAYLIGHT
TZOFFSETFROM:-0500
TZOFFSETTO:-0400
TZNAME:EDT
DTSTART:20260308T070000
END:DAYLIGHT
BEGIN:STANDARD
TZOFFSETFROM:-0400
TZOFFSETTO:-0500
TZNAME:EST
DTSTART:20261101T060000
END:STANDARD
END:VTIMEZONE
BEGIN:VEVENT
DTSTART;TZID=America/New_York:20250831T120000
DTEND;TZID=America/New_York:20250831T150000
DTSTAMP:20260421T084038
CREATED:20250805T152210Z
LAST-MODIFIED:20250805T152210Z
UID:10008212-1756641600-1756652400@www.apalachicolabay.org
SUMMARY:Endless Bubbles at The Gibson
DESCRIPTION:  \nJoin us for brunch and enjoy our endless bubbles featuring our bottomless mimosas for $15 per person. Savor a variety of fruity favorites. Sundays Noon-3pm
URL:https://www.apalachicolabay.org/event/endless-bubbles-at-the-gibson/2025-08-31/
LOCATION:The Gibson Inn\, 51 Ave C\, Apalachicola\, FL\, 32320\, United States
GEO:29.7260486;-84.9835856
X-APPLE-STRUCTURED-LOCATION;VALUE=URI;X-ADDRESS=The Gibson Inn 51 Ave C Apalachicola FL 32320 United States;X-APPLE-RADIUS=500;X-TITLE=51 Ave C:geo:-84.9835856,29.7260486
END:VEVENT
BEGIN:VEVENT
DTSTART;TZID=America/New_York:20250824T120000
DTEND;TZID=America/New_York:20250824T150000
DTSTAMP:20260421T084038
CREATED:20250805T152210Z
LAST-MODIFIED:20250805T152210Z
UID:10008211-1756036800-1756047600@www.apalachicolabay.org
SUMMARY:Endless Bubbles at The Gibson
DESCRIPTION:  \nJoin us for brunch and enjoy our endless bubbles featuring our bottomless mimosas for $15 per person. Savor a variety of fruity favorites. Sundays Noon-3pm
URL:https://www.apalachicolabay.org/event/endless-bubbles-at-the-gibson/2025-08-24/
LOCATION:The Gibson Inn\, 51 Ave C\, Apalachicola\, FL\, 32320\, United States
GEO:29.7260486;-84.9835856
X-APPLE-STRUCTURED-LOCATION;VALUE=URI;X-ADDRESS=The Gibson Inn 51 Ave C Apalachicola FL 32320 United States;X-APPLE-RADIUS=500;X-TITLE=51 Ave C:geo:-84.9835856,29.7260486
END:VEVENT
BEGIN:VEVENT
DTSTART;TZID=America/New_York:20250817T120000
DTEND;TZID=America/New_York:20250817T150000
DTSTAMP:20260421T084038
CREATED:20250805T152210Z
LAST-MODIFIED:20250805T152210Z
UID:10008210-1755432000-1755442800@www.apalachicolabay.org
SUMMARY:Endless Bubbles at The Gibson
DESCRIPTION:  \nJoin us for brunch and enjoy our endless bubbles featuring our bottomless mimosas for $15 per person. Savor a variety of fruity favorites. Sundays Noon-3pm
URL:https://www.apalachicolabay.org/event/endless-bubbles-at-the-gibson/2025-08-17/
LOCATION:The Gibson Inn\, 51 Ave C\, Apalachicola\, FL\, 32320\, United States
GEO:29.7260486;-84.9835856
X-APPLE-STRUCTURED-LOCATION;VALUE=URI;X-ADDRESS=The Gibson Inn 51 Ave C Apalachicola FL 32320 United States;X-APPLE-RADIUS=500;X-TITLE=51 Ave C:geo:-84.9835856,29.7260486
END:VEVENT
BEGIN:VEVENT
DTSTART;TZID=America/New_York:20250810T120000
DTEND;TZID=America/New_York:20250810T150000
DTSTAMP:20260421T084038
CREATED:20250805T152210Z
LAST-MODIFIED:20250805T152210Z
UID:10008209-1754827200-1754838000@www.apalachicolabay.org
SUMMARY:Endless Bubbles at The Gibson
DESCRIPTION:  \nJoin us for brunch and enjoy our endless bubbles featuring our bottomless mimosas for $15 per person. Savor a variety of fruity favorites. Sundays Noon-3pm
URL:https://www.apalachicolabay.org/event/endless-bubbles-at-the-gibson/2025-08-10/
LOCATION:The Gibson Inn\, 51 Ave C\, Apalachicola\, FL\, 32320\, United States
GEO:29.7260486;-84.9835856
X-APPLE-STRUCTURED-LOCATION;VALUE=URI;X-ADDRESS=The Gibson Inn 51 Ave C Apalachicola FL 32320 United States;X-APPLE-RADIUS=500;X-TITLE=51 Ave C:geo:-84.9835856,29.7260486
END:VEVENT
BEGIN:VEVENT
DTSTART;TZID=America/New_York:20250615T120000
DTEND;TZID=America/New_York:20250615T150000
DTSTAMP:20260421T084038
CREATED:20250605T182434Z
LAST-MODIFIED:20250605T185103Z
UID:10007930-1749988800-1749999600@www.apalachicolabay.org
SUMMARY:Fathers Day at The Gibson : Live music with Sean Williams
DESCRIPTION:
URL:https://www.apalachicolabay.org/event/fathers-day-at-the-gibson-live-music-with-sean-williams/
LOCATION:The Gibson Inn\, 51 Ave C\, Apalachicola\, FL\, 32320\, United States
GEO:29.7260486;-84.9835856
X-APPLE-STRUCTURED-LOCATION;VALUE=URI;X-ADDRESS=The Gibson Inn 51 Ave C Apalachicola FL 32320 United States;X-APPLE-RADIUS=500;X-TITLE=51 Ave C:geo:-84.9835856,29.7260486
END:VEVENT
END:VCALENDAR