BEGIN:VCALENDAR
VERSION:2.0
PRODID:-//Apalachicola Bay Chamber of Commerce - ECPv6.15.20//NONSGML v1.0//EN
CALSCALE:GREGORIAN
METHOD:PUBLISH
X-ORIGINAL-URL:https://www.apalachicolabay.org
X-WR-CALDESC:Events for Apalachicola Bay Chamber of Commerce
REFRESH-INTERVAL;VALUE=DURATION:PT1H
X-Robots-Tag:noindex
X-PUBLISHED-TTL:PT1H
BEGIN:VTIMEZONE
TZID:America/New_York
BEGIN:DAYLIGHT
TZOFFSETFROM:-0500
TZOFFSETTO:-0400
TZNAME:EDT
DTSTART:20240310T070000
END:DAYLIGHT
BEGIN:STANDARD
TZOFFSETFROM:-0400
TZOFFSETTO:-0500
TZNAME:EST
DTSTART:20241103T060000
END:STANDARD
BEGIN:DAYLIGHT
TZOFFSETFROM:-0500
TZOFFSETTO:-0400
TZNAME:EDT
DTSTART:20250309T070000
END:DAYLIGHT
BEGIN:STANDARD
TZOFFSETFROM:-0400
TZOFFSETTO:-0500
TZNAME:EST
DTSTART:20251102T060000
END:STANDARD
BEGIN:DAYLIGHT
TZOFFSETFROM:-0500
TZOFFSETTO:-0400
TZNAME:EDT
DTSTART:20260308T070000
END:DAYLIGHT
BEGIN:STANDARD
TZOFFSETFROM:-0400
TZOFFSETTO:-0500
TZNAME:EST
DTSTART:20261101T060000
END:STANDARD
END:VTIMEZONE
BEGIN:VEVENT
DTSTART;TZID=America/New_York:20250710T203000
DTEND;TZID=America/New_York:20250710T233000
DTSTAMP:20260421T052425
CREATED:20250519T150235Z
LAST-MODIFIED:20250519T150235Z
UID:10007901-1752179400-1752190200@www.apalachicolabay.org
SUMMARY:The July Sunset and Full Moon Climb at the Cape St. George Lighthouse
DESCRIPTION:The July Sunset and Full Moon Climb at the Cape St. George Lighthouse on St. George Island will be held on Thursday\, July 10\, 2025. Visitors can enjoy this opportunity to view St. George Island\, the Gulf of Mexico and the Apalachicola Bay under the evening sky. \nThe Sunset and Full Moon Climb will begin at 8:30 p.m. and run until 11:30 p.m. Fifteen-minute time slots will be allotted for each group on a first-come\, first-served basis. No advanced reservations will be taken. You will purchase your tickets in the gift shop and then sign up for your 15-minute time slot with the lighthouse keeper. Up to 12 persons allowed in each 15-minute time slot. The gift shop will open at 8:00 p.m.\, July 10th\, to begin selling tickets. \nCost is $10.00 per climber for the general public and $7.00 for members of the St. George Lighthouse Association. Cash or credit card payments accepted. All climbers must be at least 40 inches tall to climb the tower and children must be age 13 and over to access the outside catwalk. For more information\, please contact the Lighthouse Gift Shop at 850-927-7745. \nThe sun will set at 8:43 p.m. and the “Buck” moon will rise at 9:03 p.m. on July 10th. The July full moon is called the Buck moon because buck deer start growing velvety hair-covered antlers in July. Full Moon names are attributable to native American tribes\, most notably the Algonquin\, who named the moons to mark the changing seasons. \nThe Cape St. George Light is located in St. George Lighthouse Park at the center of St. George Island\, where Island Drive (the road off the bridge) ends at Gulf Beach Drive. Parking is available in lots at either side of the park.
URL:https://www.apalachicolabay.org/event/the-july-sunset-and-full-moon-climb-at-the-cape-st-george-lighthouse-2/
LOCATION:St. George Island Lighthouse\, 2 east Gulf Beach Drive\, St. George Island\, Florida\, 32328
ATTACH;FMTTYPE=image/jpeg:https://www.apalachicolabay.org/wp-content/uploads/2025/03/Lighthouse-full-moon.jpg
GEO:29.674477;-84.824876
X-APPLE-STRUCTURED-LOCATION;VALUE=URI;X-ADDRESS=St. George Island Lighthouse 2 east Gulf Beach Drive St. George Island Florida 32328;X-APPLE-RADIUS=500;X-TITLE=2 east Gulf Beach Drive:geo:-84.824876,29.674477
END:VEVENT
BEGIN:VEVENT
DTSTART;TZID=America/New_York:20250611T203000
DTEND;TZID=America/New_York:20250611T233000
DTSTAMP:20260421T052425
CREATED:20250519T141903Z
LAST-MODIFIED:20250519T141903Z
UID:10007870-1749673800-1749684600@www.apalachicolabay.org
SUMMARY:The June Sunset and Full Moon Climb at the Cape St. George Lighthouse
DESCRIPTION:The June Sunset and Full Moon Climb at the Cape St. George Lighthouse on St. George Island will be held on Wednesday\, June 11\, 2025. This is a unique opportunity to enjoy the view of St. George Island\, the Gulf of Mexico and the Apalachicola Bay under the evening sky from the top of the lighthouse. \nThe Sunset and Full Moon Climb will begin at 8:30 p.m. and run until 11:30 p.m. Fifteen-minute time slots will be allotted for each group on a first-come\, first-served basis. No advanced reservations will be taken. You will purchase your tickets in the gift shop and then sign up for your 15-minute time slot with the lighthouse keeper. Up to 12 people are allowed in each 15-minute time slot. The gift shop will open at 8:00 p.m. to begin selling tickets. \nCost is $10.00 per climber for the general public and $7.00 for members of the St. George Lighthouse Association. Cash or credit card payments accepted. All climbers must be at least 40 inches tall to climb the tower and children must be age 13 and over to access the outside catwalk. For more information\, please contact the Lighthouse Gift Shop at 850-927-7745. \nThe sun will set at 8:40 p.m. and the “Strawberry” moon will rise at 9:28 p.m. on June 11th. The June full moon is called the “Strawberry” moon because strawberry picking season reaches its peak around this time. Full Moon names are attributable to native American tribes\, most notably the Algonquin\, who named the moons to mark the changing seasons. \nThe Cape St. George Light is located in St. George Lighthouse Park at the center of St. George Island\, where Island Drive (the road off the bridge) ends at Gulf Beach Drive. Parking is available in lots at either side of the park.
URL:https://www.apalachicolabay.org/event/the-june-sunset-and-full-moon-climb-at-the-cape-st-george-lighthouse-2/
LOCATION:St. George Island Lighthouse\, 2 east Gulf Beach Drive\, St. George Island\, Florida\, 32328
ATTACH;FMTTYPE=image/jpeg:https://www.apalachicolabay.org/wp-content/uploads/2024/03/228716974_4385140698210957_717053602232703208_n.jpg
GEO:29.674477;-84.824876
X-APPLE-STRUCTURED-LOCATION;VALUE=URI;X-ADDRESS=St. George Island Lighthouse 2 east Gulf Beach Drive St. George Island Florida 32328;X-APPLE-RADIUS=500;X-TITLE=2 east Gulf Beach Drive:geo:-84.824876,29.674477
END:VEVENT
BEGIN:VEVENT
DTSTART;TZID=America/New_York:20250426T130000
DTEND;TZID=America/New_York:20250426T160000
DTSTAMP:20260421T052425
CREATED:20250325T141540Z
LAST-MODIFIED:20250325T141540Z
UID:10007286-1745672400-1745683200@www.apalachicolabay.org
SUMMARY:St. George Island Brewfest
DESCRIPTION:The SGI Brewfest is a one day festival to promote the appreciation of craft beer. This event is a fundraiser for the Franklin County Humane Society.Tickets: http://www.sgibrewfest.com/tickets/ \nWe are so excited to see you on April 26\, 2025! We have great plans\, and our amazing location (right by the beach in the parking area next to the lighthouse!) and a better-than-ever SGI Brewfest on tap. We’ve got some awesome new features for this year’s event so be there or be square!
URL:https://www.apalachicolabay.org/event/st-george-island-brewfest/
LOCATION:St. George Island Lighthouse\, 2 east Gulf Beach Drive\, St. George Island\, Florida\, 32328
ORGANIZER;CN="SGI Brewfest":MAILTO:sgibrewfest@gmail.com
GEO:29.674477;-84.824876
X-APPLE-STRUCTURED-LOCATION;VALUE=URI;X-ADDRESS=St. George Island Lighthouse 2 east Gulf Beach Drive St. George Island Florida 32328;X-APPLE-RADIUS=500;X-TITLE=2 east Gulf Beach Drive:geo:-84.824876,29.674477
END:VEVENT
END:VCALENDAR