BEGIN:VCALENDAR
VERSION:2.0
PRODID:-//Apalachicola Bay Chamber of Commerce - ECPv6.15.20//NONSGML v1.0//EN
CALSCALE:GREGORIAN
METHOD:PUBLISH
X-ORIGINAL-URL:https://www.apalachicolabay.org
X-WR-CALDESC:Events for Apalachicola Bay Chamber of Commerce
REFRESH-INTERVAL;VALUE=DURATION:PT1H
X-Robots-Tag:noindex
X-PUBLISHED-TTL:PT1H
BEGIN:VTIMEZONE
TZID:America/New_York
BEGIN:DAYLIGHT
TZOFFSETFROM:-0500
TZOFFSETTO:-0400
TZNAME:EDT
DTSTART:20240310T070000
END:DAYLIGHT
BEGIN:STANDARD
TZOFFSETFROM:-0400
TZOFFSETTO:-0500
TZNAME:EST
DTSTART:20241103T060000
END:STANDARD
BEGIN:DAYLIGHT
TZOFFSETFROM:-0500
TZOFFSETTO:-0400
TZNAME:EDT
DTSTART:20250309T070000
END:DAYLIGHT
BEGIN:STANDARD
TZOFFSETFROM:-0400
TZOFFSETTO:-0500
TZNAME:EST
DTSTART:20251102T060000
END:STANDARD
BEGIN:DAYLIGHT
TZOFFSETFROM:-0500
TZOFFSETTO:-0400
TZNAME:EDT
DTSTART:20260308T070000
END:DAYLIGHT
BEGIN:STANDARD
TZOFFSETFROM:-0400
TZOFFSETTO:-0500
TZNAME:EST
DTSTART:20261101T060000
END:STANDARD
END:VTIMEZONE
BEGIN:VEVENT
DTSTART;TZID=America/New_York:20250531T150000
DTEND;TZID=America/New_York:20250531T190000
DTSTAMP:20260421T053857
CREATED:20250528T133508Z
LAST-MODIFIED:20250528T133552Z
UID:10007926-1748703600-1748718000@www.apalachicolabay.org
SUMMARY:Forgotten Coast Fly Company Re-Opening
DESCRIPTION:We’re Back on the Flats and you’re invited!\n\n\nJoin us Saturday\, May 31st at our new location inside Scipio Creek Marina for our reopening party starting at 3PM and goes until! Ribbon Cutting at 3:30pm. One of your favorite things about our new location is you can arrive by skiff!
URL:https://www.apalachicolabay.org/event/forgotten-coast-fly-company-re-opening/
LOCATION:Scipio Creek Marina\, 301 Market St\, APALACHICOLA\, FL\, 32320\, United States
END:VEVENT
END:VCALENDAR