BEGIN:VCALENDAR
VERSION:2.0
PRODID:-//Apalachicola Bay Chamber of Commerce - ECPv6.15.20//NONSGML v1.0//EN
CALSCALE:GREGORIAN
METHOD:PUBLISH
X-ORIGINAL-URL:https://www.apalachicolabay.org
X-WR-CALDESC:Events for Apalachicola Bay Chamber of Commerce
REFRESH-INTERVAL;VALUE=DURATION:PT1H
X-Robots-Tag:noindex
X-PUBLISHED-TTL:PT1H
BEGIN:VTIMEZONE
TZID:America/New_York
BEGIN:DAYLIGHT
TZOFFSETFROM:-0500
TZOFFSETTO:-0400
TZNAME:EDT
DTSTART:20250309T070000
END:DAYLIGHT
BEGIN:STANDARD
TZOFFSETFROM:-0400
TZOFFSETTO:-0500
TZNAME:EST
DTSTART:20251102T060000
END:STANDARD
BEGIN:DAYLIGHT
TZOFFSETFROM:-0500
TZOFFSETTO:-0400
TZNAME:EDT
DTSTART:20260308T070000
END:DAYLIGHT
BEGIN:STANDARD
TZOFFSETFROM:-0400
TZOFFSETTO:-0500
TZNAME:EST
DTSTART:20261101T060000
END:STANDARD
BEGIN:DAYLIGHT
TZOFFSETFROM:-0500
TZOFFSETTO:-0400
TZNAME:EDT
DTSTART:20270314T070000
END:DAYLIGHT
BEGIN:STANDARD
TZOFFSETFROM:-0400
TZOFFSETTO:-0500
TZNAME:EST
DTSTART:20271107T060000
END:STANDARD
END:VTIMEZONE
BEGIN:VEVENT
DTSTART;TZID=America/New_York:20260425T100000
DTEND;TZID=America/New_York:20260425T180000
DTSTAMP:20260420T132846
CREATED:20260331T182134Z
LAST-MODIFIED:20260331T182134Z
UID:10009566-1777111200-1777140000@www.apalachicolabay.org
SUMMARY:Carrabelle Celebrates the 2026 Carrabelle Riverfront Festival
DESCRIPTION:The Carrabelle Chamber of Commerce invites all to a fun-filled time along the historic Carrabelle waterfront. The 2026 Carrabelle Riverfront Festival is a day of family-friendly activities\, live music\, a car show\, unique entertainment\, colorful arts & craft\, and delicious food on Saturday\, April 25 from 10 am – 6 pm ET. There will be plenty for both the young and old to enjoy along the beautiful harbor at this FREE and pet-friendly festival. \n  \nThe festival will feature fun for the whole family\, including children’s mini-train rides\, a bouncy house\, and a kids’ craft activity station. Plus\, a variety of vendors will be on hand with kid-friendly favorites like face painting and cotton candy\, adding to the festive atmosphere. \n  \nFeet will be tapping to the upbeat favorites of some gifted musicians\, including the talented father/son duo of Danny Welch of Sumpin’ Old & Sumpin’ New who cover multiple genres\, with a little comedy thrown in and Steve’s Steel Drums playing Caribbean and Beach music. Guests will also be delighted by the wonderful dance performances of the Forgotten Coast Dancing Witches. The entertainment doesn’t end there as there will also be fun music by DJ Beanie Baby. \n  \nTons of festival vendors will be offering unique arts and craft items\, delicious food\, yummy treats and interesting products. Food vendors will be offering shrimp\, conch fritters\, BBQ\, kettle corn\, funnel cakes\, shaved ice\, cotton candy\, and more. Plus\, there will be regional\, family-friendly exhibitors with engaging displays and Tate’s Hell State Forest’s Smokey Bear on Avenue B. Visitors can explore the local shops\, museums\, and cafes for even more choices. \n  \nCurfew Masonic Lodge #73 will be hosting a Car Show\, with classic\, vintage\, and custom vehicles from 11 am – 4 pm ET at George Sands Park. Car collectors and enthusiasts will showcase their prized automobiles\, offering guests the opportunity to admire a variety of cars\, trucks\, and more at 206 Hwy 98\, Carrabelle. \n  \nThe Airing of the Quilts\, hosted by the Lanark Village Wandering Star Quilters\, returns to Sands Park from 9:30 am-3 pm ET\, transforming the park into an outdoor quilt gallery. This free event will celebrate America’s 250th Birthday with an impressive display of patriotic quilts\, other beautiful quilts made by this talented guild and vintage quilts displayed along the fence and throughout the park. \n  \nThe Carrabelle Riverfront Festival is hosted by the Carrabelle Chamber of Commerce\, funded in part by the Franklin County Tourist Development Council and sponsored by Centennial Bank\, Duke Energy\, Air-Con of Wakulla\, Emerald Coast Federal Credit Union\, Angler’s Edge Marine\, and C-Quarters Marina.  For details\, check out www.CarrabelleRiverfrontFestival.com  or contact 850-697-2585 or chamber@nettally.com. \n \n \n \n  \n 
URL:https://www.apalachicolabay.org/event/carrabelle-celebrates-the-2026-carrabelle-riverfront-festival/
LOCATION:Downtown Carrabelle\, 102 St. James Avenue (US Hwy 98)\, Carrabelle\, Fl\, 32322
ATTACH;FMTTYPE=image/jpeg:https://www.apalachicolabay.org/wp-content/uploads/2026/03/good-Visitors-enjoy-vendors-along-the-waterfront-2022-2-scaled.jpg
END:VEVENT
BEGIN:VEVENT
DTSTART;TZID=America/New_York:20260428T080000
DTEND;TZID=America/New_York:20260428T170000
DTSTAMP:20260420T132846
CREATED:20250805T174147Z
LAST-MODIFIED:20250805T174147Z
UID:10008257-1777363200-1777395600@www.apalachicolabay.org
SUMMARY:Free Tech Help Sessions Offered at the Carrabelle Library
DESCRIPTION:The Friends of the Franklin County Public Libraries (FFCPL) are pleased to announce a series of free educational Tech Help sessions this August at the Carrabelle Branch Library. These sessions are part of the Program Series\, offering something for everyone – young children\, students\, and lifelong learners. These events are open to the public—no library card is required—and offer a welcoming\, inclusive space for individuals of all ages to learn\, explore\, and connect through technology. \nThe Tech Help sessions will be held every Tuesday in August – August 5\, 12\, 19\, and 26 – at 11:00 am ET at the Carrabelle Branch Library\, located at 311 St. James Ave. SE (Highway 98)\, Carrabelle\, FL. These relaxed\, judgment-free sessions provide one-on-one technology assistance for guests who need help with devices\, email\, digital resources\, and basic tech skills. No registration is necessary—drop-ins are welcome! \nThe Friends of the Franklin County Public Libraries\, a 501(c)(3) organization\, offers the Program Series to ensure that the libraries in Eastpoint and Carrabelle continue to provide informational\, educational and cultural materials for the benefit of persons of all ages in the community. For details or to join the Friends\, please visit our website or contact the Carrabelle Branch at 850-275-9895. Funded in part by the Franklin County Tourist Development Council.
URL:https://www.apalachicolabay.org/event/free-tech-help-sessions-offered-at-the-carrabelle-library/2026-04-28/
LOCATION:Eastpoint Public Library\, 160 Hickory Dip Rd\, Eastpoint\, Fl\, 32328
END:VEVENT
BEGIN:VEVENT
DTSTART;TZID=America/New_York:20260428T110000
DTEND;TZID=America/New_York:20260428T170000
DTSTAMP:20260420T132846
CREATED:20250825T182727Z
LAST-MODIFIED:20250825T182727Z
UID:10008536-1777374000-1777395600@www.apalachicolabay.org
SUMMARY:Free Tech Help Sessions Continue at the Carrabelle Library
DESCRIPTION:The Friends of the Franklin County Public Libraries (FFCPL) are pleased to announce that a popular series of free educational Tech Help sessions will continue this September at the Carrabelle Branch Library. These sessions are part of the Program Series\, offering something for everyone – young children\, students\, and lifelong learners. These events are open to the public—no library card is required—and offer a welcoming\, inclusive space for individuals of all ages to learn\, explore\, and connect through technology. \n  \nThe Tech Help sessions will be held every Tuesday in September- September 2\, 9\, 16\, 23\, and 30 – at 11:00 am ET at the Carrabelle Branch Library\, located at 311 St. James Ave. SE (Highway 98)\, Carrabelle\, FL. These relaxed\, judgment-free sessions provide one-on-one technology assistance for guests who need help with devices\, email\, digital resources\, and basic tech skills. No registration is necessary—drop-ins are welcome! \n  \nThe Friends of the Franklin County Public Libraries\, a 501(c)(3) organization\, offers the Program Series to ensure that the libraries in Eastpoint and Carrabelle continue to provide informational\, educational and cultural materials for the benefit of persons of all ages in the community. For details or to join the Friends\, please visit https://friendsfcpl.com or contact the Carrabelle Branch at 850-275-9895. Funded in part by the Franklin County Tourist Development Council.
URL:https://www.apalachicolabay.org/event/free-tech-help-sessions-continue-at-the-carrabelle-library/2026-04-28/
LOCATION:Carrabelle Library  311 St James Ave  Carrabelle\, FL 32322 United States\, 311 st\, james\, Carrabelle\, Fl
ATTACH;FMTTYPE=image/png:https://www.apalachicolabay.org/wp-content/uploads/2025/08/TECH-HELP-Carrabelle-Sept-2025.png
END:VEVENT
BEGIN:VEVENT
DTSTART;TZID=America/New_York:20260429T080000
DTEND;TZID=America/New_York:20260429T170000
DTSTAMP:20260420T132846
CREATED:20251105T202700Z
LAST-MODIFIED:20251105T202700Z
UID:10009260-1777449600-1777482000@www.apalachicolabay.org
SUMMARY:Knit / Crochet & Visit
DESCRIPTION:Knit or Crochet & Visit \nAt River’s Edge Gallery \nWednesday Afternoons 1-5 p.m. \n  \nJoin fellow knitters & crochet lovers for informal afternoons of yarn talk & techniques \n* \nWe now carry the fine yarns\, formerly from Downtown Books & Purl \nCome on in\, bring your project\, bring a friend and let’s visit! \n  \n  \nRiver’s Edge Gallery \n59 Commerce St  Apalachicola\, FL         850-653-1031 \nEmail: info@riversedgegallery.art    Website: riversedgegallery.art
URL:https://www.apalachicolabay.org/event/knit-crochet-visit/2026-04-29/
LOCATION:River’s Edge Gallery\, 59 Commerce St\, Apalachicola\, FL\, 32320\, United States
ORGANIZER;CN="River's Edge Gallery":MAILTO:dingle576@yahoo.com
END:VEVENT
BEGIN:VEVENT
DTSTART;TZID=America/New_York:20260429T170000
DTEND;TZID=America/New_York:20260429T190000
DTSTAMP:20260420T132846
CREATED:20260413T172330Z
LAST-MODIFIED:20260413T172330Z
UID:10009578-1777482000-1777489200@www.apalachicolabay.org
SUMMARY:Celebrate a New Era of The Owl Cafe
DESCRIPTION:
URL:https://www.apalachicolabay.org/event/celebrate-a-new-era-of-the-owl-cafe/
LOCATION:The Owl Cafe\, 15 Ave D\, Apalachicola\, Florida\, 32320
GEO:29.7278167;-84.9833376
X-APPLE-STRUCTURED-LOCATION;VALUE=URI;X-ADDRESS=The Owl Cafe 15 Ave D Apalachicola Florida 32320;X-APPLE-RADIUS=500;X-TITLE=15 Ave D:geo:-84.9833376,29.7278167
END:VEVENT
END:VCALENDAR