BEGIN:VCALENDAR
VERSION:2.0
PRODID:-//Apalachicola Bay Chamber of Commerce - ECPv6.15.20//NONSGML v1.0//EN
CALSCALE:GREGORIAN
METHOD:PUBLISH
X-WR-CALNAME:Apalachicola Bay Chamber of Commerce
X-ORIGINAL-URL:https://www.apalachicolabay.org
X-WR-CALDESC:Events for Apalachicola Bay Chamber of Commerce
REFRESH-INTERVAL;VALUE=DURATION:PT1H
X-Robots-Tag:noindex
X-PUBLISHED-TTL:PT1H
BEGIN:VTIMEZONE
TZID:America/New_York
BEGIN:DAYLIGHT
TZOFFSETFROM:-0500
TZOFFSETTO:-0400
TZNAME:EDT
DTSTART:20240310T070000
END:DAYLIGHT
BEGIN:STANDARD
TZOFFSETFROM:-0400
TZOFFSETTO:-0500
TZNAME:EST
DTSTART:20241103T060000
END:STANDARD
BEGIN:DAYLIGHT
TZOFFSETFROM:-0500
TZOFFSETTO:-0400
TZNAME:EDT
DTSTART:20250309T070000
END:DAYLIGHT
BEGIN:STANDARD
TZOFFSETFROM:-0400
TZOFFSETTO:-0500
TZNAME:EST
DTSTART:20251102T060000
END:STANDARD
BEGIN:DAYLIGHT
TZOFFSETFROM:-0500
TZOFFSETTO:-0400
TZNAME:EDT
DTSTART:20260308T070000
END:DAYLIGHT
BEGIN:STANDARD
TZOFFSETFROM:-0400
TZOFFSETTO:-0500
TZNAME:EST
DTSTART:20261101T060000
END:STANDARD
END:VTIMEZONE
BEGIN:VEVENT
DTSTART;TZID=America/New_York:20251113T190000
DTEND;TZID=America/New_York:20251115T210000
DTSTAMP:20260424T072703
CREATED:20251017T190210Z
LAST-MODIFIED:20251017T190210Z
UID:10009230-1763060400-1763240400@www.apalachicolabay.org
SUMMARY:Panhandle Players Present: The Play That Goes Wrong
DESCRIPTION:
URL:https://www.apalachicolabay.org/event/panhandle-players-present-the-play-that-goes-wrong/
LOCATION:Panhandle Players Auditorium\, Apalachicola\, Florida\, 32320
END:VEVENT
BEGIN:VEVENT
DTSTART;TZID=America/New_York:20250508T193000
DTEND;TZID=America/New_York:20250511T203000
DTSTAMP:20260424T072703
CREATED:20250506T180206Z
LAST-MODIFIED:20250506T180206Z
UID:10007846-1746732600-1746995400@www.apalachicolabay.org
SUMMARY:Panhandle Players Presents: Little Shop of Horrors
DESCRIPTION:Little Shop of Horrors is a horror-comedy musical about Seymour Krelborn\, a meek flower shop employee who discovers a strange\, talking plant he names Audrey II\, after his crush\, Audrey. The plant\, however\, has a sinister secret—it thrives on human blood and grows increasingly demanding. As Audrey II becomes a sensation\, Seymour struggles with his moral dilemma while also trying to win Audrey’s love. But as the plant’s appetite grows\, Seymour realizes too late that he’s nurtured a monstrous force with deadly intentions. The story blends dark humor\, catchy songs\, and a cautionary tale of ambition gone awry.
URL:https://www.apalachicolabay.org/event/panhandle-players-presents-little-shop-of-horrors/
LOCATION:Chapman Auditorium\, 159 Ave E\, Apalachicola\, Fl\, 32320
ATTACH;FMTTYPE=image/jpeg:https://www.apalachicolabay.org/wp-content/uploads/2025/05/LittleShopHorrorsoption3copy.jpg
GEO:29.7200346;-84.9924634
X-APPLE-STRUCTURED-LOCATION;VALUE=URI;X-ADDRESS=Chapman Auditorium 159 Ave E Apalachicola Fl 32320;X-APPLE-RADIUS=500;X-TITLE=159 Ave E:geo:-84.9924634,29.7200346
END:VEVENT
END:VCALENDAR