BEGIN:VCALENDAR
VERSION:2.0
PRODID:-//Apalachicola Bay Chamber of Commerce - ECPv6.15.20//NONSGML v1.0//EN
CALSCALE:GREGORIAN
METHOD:PUBLISH
X-WR-CALNAME:Apalachicola Bay Chamber of Commerce
X-ORIGINAL-URL:https://www.apalachicolabay.org
X-WR-CALDESC:Events for Apalachicola Bay Chamber of Commerce
REFRESH-INTERVAL;VALUE=DURATION:PT1H
X-Robots-Tag:noindex
X-PUBLISHED-TTL:PT1H
BEGIN:VTIMEZONE
TZID:America/New_York
BEGIN:DAYLIGHT
TZOFFSETFROM:-0500
TZOFFSETTO:-0400
TZNAME:EDT
DTSTART:20250309T070000
END:DAYLIGHT
BEGIN:STANDARD
TZOFFSETFROM:-0400
TZOFFSETTO:-0500
TZNAME:EST
DTSTART:20251102T060000
END:STANDARD
BEGIN:DAYLIGHT
TZOFFSETFROM:-0500
TZOFFSETTO:-0400
TZNAME:EDT
DTSTART:20260308T070000
END:DAYLIGHT
BEGIN:STANDARD
TZOFFSETFROM:-0400
TZOFFSETTO:-0500
TZNAME:EST
DTSTART:20261101T060000
END:STANDARD
BEGIN:DAYLIGHT
TZOFFSETFROM:-0500
TZOFFSETTO:-0400
TZNAME:EDT
DTSTART:20270314T070000
END:DAYLIGHT
BEGIN:STANDARD
TZOFFSETFROM:-0400
TZOFFSETTO:-0500
TZNAME:EST
DTSTART:20271107T060000
END:STANDARD
END:VTIMEZONE
BEGIN:VEVENT
DTSTART;TZID=America/New_York:20260505T110000
DTEND;TZID=America/New_York:20260530T170000
DTSTAMP:20260422T081819
CREATED:20260409T130206Z
LAST-MODIFIED:20260409T130206Z
UID:10009571-1777978800-1780160400@www.apalachicolabay.org
SUMMARY:U.S. Women of WWII presented by  Camp Gordon Johnston WWII Museum
DESCRIPTION:Camp Gordon Johnston WWII Museum in Carrabelle is presenting an exhibit on the U.S. Women of WWII.  This exhibit will open on Tuesday\, May 5 and be on display at the museum until Saturday\, May 30.  The museum is open every Tuesday through Saturday from 11 am to 5 pm. There is no charge for admission\, but donations are gladly accepted. \n  \nDuring WWII\, American women played a crucial role\, serving in the war effort as members of the Women’s Army Corps (WACs)\, Women Accepted for Volunteer Emergency Service (WAVES) of the U.S. Navy\, the SPARs of the United States Coast Guard Women’s Reserve (Semper Paratus\, Always Ready)\, the U. S. Marine Corps Women’s Reserve (MCWR)\, and as WASPs (Women Airforce Service Pilots)\, as well as civilians working in war industries throughout the country. Over 350\,000 American women served in the U. S. Armed Forces during World War II\, taking on over 200 different roles. Their work filled vital positions that supported the war effort both at home and overseas and ranged from mechanics\, pilots\, and drivers to gunnery instructors\, nurses\, postal workers\, and translators. During their service\, 432 servicewomen lost their lives and 88 were taken prisoner. \n  \nThis exhibit will showcase the many contributions of women during WWII and explain the important roles they played in the war effort. Featured displays will include historic photos and authentic artifacts such as uniforms\, handbooks\, and even a practice aptitude test given to women applicants hoping to enlist. The exhibit will also highlight individuals like U.S. Navy Flight Nurses\, who were among the first women to arrive at battles such as Iwo Jima and Okinawa\, and will remember and honor many of the local women of Franklin County who served during World War II. \n  \nCamp Gordon Johnston WWII Museum is located in Carrabelle\, directly across from Carrabelle Public Beach Park at 1873 Hwy 98 West. For more information\, contact Camp Gordon Johnston Museum at (850) 697-8575 or museum@campgordonjohnston.com. Funded in part by the Franklin County Tourist Development Council.
URL:https://www.apalachicolabay.org/event/u-s-women-of-wwii-presented-by-camp-gordon-johnston-wwii-museum/
LOCATION:The Carrabelle History Museum\, 106 Avenue B SE\, Carrabelle\, FL\, 32322\, United States
ATTACH;FMTTYPE=image/jpeg:https://www.apalachicolabay.org/wp-content/uploads/2026/04/CGJ-Exhibit-March-2026.jpg
GEO:29.8477061;-84.660104
X-APPLE-STRUCTURED-LOCATION;VALUE=URI;X-ADDRESS=The Carrabelle History Museum 106 Avenue B SE Carrabelle FL 32322 United States;X-APPLE-RADIUS=500;X-TITLE=106 Avenue B SE:geo:-84.660104,29.8477061
END:VEVENT
BEGIN:VEVENT
DTSTART;TZID=America/New_York:20260526T080000
DTEND;TZID=America/New_York:20260526T170000
DTSTAMP:20260422T081819
CREATED:20250805T174147Z
LAST-MODIFIED:20250805T174147Z
UID:10008261-1779782400-1779814800@www.apalachicolabay.org
SUMMARY:Free Tech Help Sessions Offered at the Carrabelle Library
DESCRIPTION:The Friends of the Franklin County Public Libraries (FFCPL) are pleased to announce a series of free educational Tech Help sessions this August at the Carrabelle Branch Library. These sessions are part of the Program Series\, offering something for everyone – young children\, students\, and lifelong learners. These events are open to the public—no library card is required—and offer a welcoming\, inclusive space for individuals of all ages to learn\, explore\, and connect through technology. \nThe Tech Help sessions will be held every Tuesday in August – August 5\, 12\, 19\, and 26 – at 11:00 am ET at the Carrabelle Branch Library\, located at 311 St. James Ave. SE (Highway 98)\, Carrabelle\, FL. These relaxed\, judgment-free sessions provide one-on-one technology assistance for guests who need help with devices\, email\, digital resources\, and basic tech skills. No registration is necessary—drop-ins are welcome! \nThe Friends of the Franklin County Public Libraries\, a 501(c)(3) organization\, offers the Program Series to ensure that the libraries in Eastpoint and Carrabelle continue to provide informational\, educational and cultural materials for the benefit of persons of all ages in the community. For details or to join the Friends\, please visit our website or contact the Carrabelle Branch at 850-275-9895. Funded in part by the Franklin County Tourist Development Council.
URL:https://www.apalachicolabay.org/event/free-tech-help-sessions-offered-at-the-carrabelle-library/2026-05-26/
LOCATION:Eastpoint Public Library\, 160 Hickory Dip Rd\, Eastpoint\, Fl\, 32328
END:VEVENT
BEGIN:VEVENT
DTSTART;TZID=America/New_York:20260526T110000
DTEND;TZID=America/New_York:20260526T170000
DTSTAMP:20260422T081819
CREATED:20250825T182727Z
LAST-MODIFIED:20250825T182727Z
UID:10008540-1779793200-1779814800@www.apalachicolabay.org
SUMMARY:Free Tech Help Sessions Continue at the Carrabelle Library
DESCRIPTION:The Friends of the Franklin County Public Libraries (FFCPL) are pleased to announce that a popular series of free educational Tech Help sessions will continue this September at the Carrabelle Branch Library. These sessions are part of the Program Series\, offering something for everyone – young children\, students\, and lifelong learners. These events are open to the public—no library card is required—and offer a welcoming\, inclusive space for individuals of all ages to learn\, explore\, and connect through technology. \n  \nThe Tech Help sessions will be held every Tuesday in September- September 2\, 9\, 16\, 23\, and 30 – at 11:00 am ET at the Carrabelle Branch Library\, located at 311 St. James Ave. SE (Highway 98)\, Carrabelle\, FL. These relaxed\, judgment-free sessions provide one-on-one technology assistance for guests who need help with devices\, email\, digital resources\, and basic tech skills. No registration is necessary—drop-ins are welcome! \n  \nThe Friends of the Franklin County Public Libraries\, a 501(c)(3) organization\, offers the Program Series to ensure that the libraries in Eastpoint and Carrabelle continue to provide informational\, educational and cultural materials for the benefit of persons of all ages in the community. For details or to join the Friends\, please visit https://friendsfcpl.com or contact the Carrabelle Branch at 850-275-9895. Funded in part by the Franklin County Tourist Development Council.
URL:https://www.apalachicolabay.org/event/free-tech-help-sessions-continue-at-the-carrabelle-library/2026-05-26/
LOCATION:Carrabelle Library  311 St James Ave  Carrabelle\, FL 32322 United States\, 311 st\, james\, Carrabelle\, Fl
ATTACH;FMTTYPE=image/png:https://www.apalachicolabay.org/wp-content/uploads/2025/08/TECH-HELP-Carrabelle-Sept-2025.png
END:VEVENT
END:VCALENDAR