BEGIN:VCALENDAR
VERSION:2.0
PRODID:-//Apalachicola Bay Chamber of Commerce - ECPv6.15.20//NONSGML v1.0//EN
CALSCALE:GREGORIAN
METHOD:PUBLISH
X-ORIGINAL-URL:https://www.apalachicolabay.org
X-WR-CALDESC:Events for Apalachicola Bay Chamber of Commerce
REFRESH-INTERVAL;VALUE=DURATION:PT1H
X-Robots-Tag:noindex
X-PUBLISHED-TTL:PT1H
BEGIN:VTIMEZONE
TZID:America/New_York
BEGIN:DAYLIGHT
TZOFFSETFROM:-0500
TZOFFSETTO:-0400
TZNAME:EDT
DTSTART:20250309T070000
END:DAYLIGHT
BEGIN:STANDARD
TZOFFSETFROM:-0400
TZOFFSETTO:-0500
TZNAME:EST
DTSTART:20251102T060000
END:STANDARD
BEGIN:DAYLIGHT
TZOFFSETFROM:-0500
TZOFFSETTO:-0400
TZNAME:EDT
DTSTART:20260308T070000
END:DAYLIGHT
BEGIN:STANDARD
TZOFFSETFROM:-0400
TZOFFSETTO:-0500
TZNAME:EST
DTSTART:20261101T060000
END:STANDARD
BEGIN:DAYLIGHT
TZOFFSETFROM:-0500
TZOFFSETTO:-0400
TZNAME:EDT
DTSTART:20270314T070000
END:DAYLIGHT
BEGIN:STANDARD
TZOFFSETFROM:-0400
TZOFFSETTO:-0500
TZNAME:EST
DTSTART:20271107T060000
END:STANDARD
END:VTIMEZONE
BEGIN:VEVENT
DTSTART;TZID=America/New_York:20260331T110000
DTEND;TZID=America/New_York:20260502T170000
DTSTAMP:20260422T065018
CREATED:20260330T194127Z
LAST-MODIFIED:20260330T201219Z
UID:10009565-1774954800-1777741200@www.apalachicolabay.org
SUMMARY:Camp Gordon Johnston WWII Museum Remembers the Holocaust
DESCRIPTION:Camp Gordon Johnston WWII Museum in Carrabelle is presenting an exhibit to remember the Holocaust\, Hitler’s program to commit genocide against those he deemed unworthy\, especially Europe’s Jews.  This exhibit will open on Tuesday\, March 31 and be on display at the museum until Saturday\, May 2.  The museum is open every Tuesday through Saturday from 11 am to 5 pm. There is no charge for admission\, but donations are gladly accepted. \n  \nBeginning in 1933\, the German Government established prison\, labor\, concentration\, and extermination camps throughout their territories\, including in countries they occupied before and during the war. Groups that were arrested and detained included Roma\, Communists\, Jehovah’s Witnesses\, homosexuals\, the disabled and especially Jews. Some 12 million people perished in the more than 44\,000 facilities\, ghettos and killing fields across Europe\, including 6 million Jews. The Museum acknowledges the need for all citizens to understand this dark period of history\, what caused it\, who perpetrated it\, and how some resisted and fought their captors. Eyewitnesses such as survivors and the soldiers that liberated these camps are aging and dying\, but many have told their stories. Visitors are invited to come see this sobering exhibit\, and help our society remember those that were victims of atrocity\, prejudice\, and hate. \n  \nThe internationally recognized date for Holocaust Remembrance Day corresponds to the 27th day of Nisan on the Hebrew calendar and it marks the anniversary of the Warsaw Ghetto Uprising which started on April 19\, 1943. In Hebrew\, Holocaust Remembrance Day is called Yom Hashoah. In 2026\, Yom HaShoah will be recognized beginning at sunset on the evening of Monday\, April 13 – Tuesday\, April 14. \n  \nCamp Gordon Johnston WWII Museum is located in Carrabelle\, directly across from Carrabelle Public Beach Park at 1873 Hwy 98 West. For more information\, contact Camp Gordon Johnston Museum at (850) 697-8575 or museum@campgordonjohnston.com. Funded in part by the Franklin County Tourist Development Council.
URL:https://www.apalachicolabay.org/event/camp-gordon-johnston-wwii-museum-remembers-the-holocaust-2/
LOCATION:Camp Gordon Johnston Museum\, 1873 Hwy 98 West\, Carrabelle\, Fl\, 32322
ATTACH;FMTTYPE=image/png:https://www.apalachicolabay.org/wp-content/uploads/2026/03/April-2026-Holocaust-CGJ-Exhibit-Square.png
END:VEVENT
BEGIN:VEVENT
DTSTART;TZID=America/New_York:20260502T090000
DTEND;TZID=America/New_York:20260502T130000
DTSTAMP:20260422T065018
CREATED:20260409T160903Z
LAST-MODIFIED:20260409T160903Z
UID:10009576-1777712400-1777726800@www.apalachicolabay.org
SUMMARY:Country Farmer’s Market & Vintage Flea Market at Carrabelle’s Lighthouse
DESCRIPTION:The Crooked River Lighthouse is hosting a Country & Vintage Flea Market on Saturday\, May 2\, from 9:00 am to 1:00 pm ET at the foot of Carrabelle’s lighthouse. This is a wonderful opportunity to shop small and shop local for unique gifts while supporting local vendors\, artists\, bakers\, artisans and crafters. Crooked River Lighthouse is located 1975 Hwy 98 West\, Carrabelle\, FL. Special for this week’s market\, a vintage flea market is being added! \nThis special Market is a perfect time for folks to get started on their spring cleaning or snag some extra-special deals in addition to the locally-made\, hand crafted goods that are available at every market. From thrift-store worthy scores to high-end antiques\, all are invited to bring their much loved treasures to the market to find them a new home. The market welcomes a diversity of products such as home décor\, furniture\, vintage jewelry\, music\, antiques\, tools\, ceramics and kitchenware\, books\, art\, toys\, and gently used clothing. Items just need to be clean and in good condition. \nThe Country Market features wonderful vendors from the area offering a variety of goodies\, including organic farm-fresh produce\, mouth watering cinnamon rolls\, artisan breads and other baked goods\, grass-fed beef\, handmade goods and craft items\, assorted jellies\, stunning art and decor\, fresh eggs\, batch-roasted coffee\, locally handmade jewelry\, handcrafted balms and sprays\, unique t-shirts and clothing\, and homemade hot sauces and salsa and plants. \nGuests are also invited to explore the Keeper’s House Museum and the historic Fresnel lens exhibit and the gift shop from 9:00 am to 5:00 pm ET. From jewelry to one-of-a-kind nautical and coastal art\, souvenirs and keepsakes\, the shop provides something special for everyone. For an added adventure\, visitors have the unique opportunity to climb to the top of the lighthouse for a breathtaking view of St. George Sound for a small fee. \nVendors may sign up at any time for a $10 fee. The regular Country Markets are held every 1st and 3rd Saturdays and are actively recruiting new and returning vendors. For details\, contact 850-697-2732\, carrabellelighthouse@gmail.com or www.crookedriverlighthouse.com. Funded in part by the Franklin County Tourist Development Council.
URL:https://www.apalachicolabay.org/event/country-farmers-market-vintage-flea-market-at-carrabelles-lighthouse/
LOCATION:Crooked River Lighthouse\, 1975 Hay 98 \, Carrabelle\, Fl\, 32322
ATTACH;FMTTYPE=image/jpeg:https://www.apalachicolabay.org/wp-content/uploads/2026/04/CRL-Flea-Market-Flyer.jpg
GEO:29.8271919;-84.7008007
X-APPLE-STRUCTURED-LOCATION;VALUE=URI;X-ADDRESS=Crooked River Lighthouse 1975 Hay 98  Carrabelle Fl 32322;X-APPLE-RADIUS=500;X-TITLE=1975 Hay 98:geo:-84.7008007,29.8271919
END:VEVENT
BEGIN:VEVENT
DTSTART;TZID=America/New_York:20260502T100000
DTEND;TZID=America/New_York:20260517T160000
DTSTAMP:20260422T065018
CREATED:20260320T185510Z
LAST-MODIFIED:20260320T185510Z
UID:10009563-1777716000-1779033600@www.apalachicolabay.org
SUMMARY:“If This House Could Talk” History Tour Returns to Apalachicola
DESCRIPTION:The Apalachicola Area Historical Society (AAHS) announces the return of its popular self-guided history tour\, “If This House Could Talk\,” taking place May 2 through May 17\, 2026\, throughout historic Apalachicola. This free event transforms the town into an open-air museum with 30 locations expected where visitors can explore local history through engaging visual storyboards. Guests are invited to view the storyboards (but not enter the properties) at their own pace during this event. \n  \nWhat if the homes\, historic locations and buildings in Apalachicola could talk? What stories would they tell? The Apalachicola Area Historical Society invites guests to find out by viewing storyboards placed in front of notable homes\, businesses\, parks\, and historic sites. Created by property owners\, these displays share interesting and sometimes odd historical facts and stories of these Apalachicola places and their past residents. The self-guided format allows visitors to explore the town at their own pace\, choosing their own route and schedule while following a tour of photos\, maps\, and narrative text\, bringing local history to life in an accessible way. \n  \nMaps\, showing storyboard locations\, will be available soon at the Raney House Museum at 128 Market Street\, the Apalachicola Bay Chamber at 73 Avenue E\, Oystertown Books at 67 Commerce Street\, Franklin County Visitor Center at 731 US 98 Eastpoint\, the Apalachicola Margaret Key Public Library at 80 12th St.\, online at Apalachicolahistoricalsociety.org and at the AAHS Facebook page. Guests can use the map to visit a variety of storyboard locations of their choosing including businesses\, parks\, historic homes and more. \n  \nFor more information\, please call and leave a message at (850) 653-1700\, email AAHS.Raney@gmail.com\, or check online at www.apalachicolahistoricalsociety.org. The Raney House Museum at 128 Market Street at the corner of Avenue F in historic downtown Apalachicola and is open from 10:00 am – 4:00 pm Tuesday through Saturday.  Funded in part by the Franklin County Tourist Development Council.
URL:https://www.apalachicolabay.org/event/if-this-house-could-talk-history-tour-returns-to-apalachicola/
LOCATION:The Raney House\, 128 Market St.\, Apalachicola\, FL\, 32320\, United States
ATTACH;FMTTYPE=image/png:https://www.apalachicolabay.org/wp-content/uploads/2026/03/ITHCT-Storyboard-with-house-3.png
GEO:29.7281382;-84.9856532
X-APPLE-STRUCTURED-LOCATION;VALUE=URI;X-ADDRESS=The Raney House 128 Market St. Apalachicola FL 32320 United States;X-APPLE-RADIUS=500;X-TITLE=128 Market St.:geo:-84.9856532,29.7281382
END:VEVENT
END:VCALENDAR