BEGIN:VCALENDAR
VERSION:2.0
PRODID:-//Apalachicola Bay Chamber of Commerce - ECPv6.15.20//NONSGML v1.0//EN
CALSCALE:GREGORIAN
METHOD:PUBLISH
X-WR-CALNAME:Apalachicola Bay Chamber of Commerce
X-ORIGINAL-URL:https://www.apalachicolabay.org
X-WR-CALDESC:Events for Apalachicola Bay Chamber of Commerce
REFRESH-INTERVAL;VALUE=DURATION:PT1H
X-Robots-Tag:noindex
X-PUBLISHED-TTL:PT1H
BEGIN:VTIMEZONE
TZID:America/New_York
BEGIN:DAYLIGHT
TZOFFSETFROM:-0500
TZOFFSETTO:-0400
TZNAME:EDT
DTSTART:20250309T070000
END:DAYLIGHT
BEGIN:STANDARD
TZOFFSETFROM:-0400
TZOFFSETTO:-0500
TZNAME:EST
DTSTART:20251102T060000
END:STANDARD
BEGIN:DAYLIGHT
TZOFFSETFROM:-0500
TZOFFSETTO:-0400
TZNAME:EDT
DTSTART:20260308T070000
END:DAYLIGHT
BEGIN:STANDARD
TZOFFSETFROM:-0400
TZOFFSETTO:-0500
TZNAME:EST
DTSTART:20261101T060000
END:STANDARD
BEGIN:DAYLIGHT
TZOFFSETFROM:-0500
TZOFFSETTO:-0400
TZNAME:EDT
DTSTART:20270314T070000
END:DAYLIGHT
BEGIN:STANDARD
TZOFFSETFROM:-0400
TZOFFSETTO:-0500
TZNAME:EST
DTSTART:20271107T060000
END:STANDARD
END:VTIMEZONE
BEGIN:VEVENT
DTSTART;TZID=America/New_York:20260331T110000
DTEND;TZID=America/New_York:20260502T170000
DTSTAMP:20260422T065624
CREATED:20260330T194127Z
LAST-MODIFIED:20260330T201219Z
UID:10009565-1774954800-1777741200@www.apalachicolabay.org
SUMMARY:Camp Gordon Johnston WWII Museum Remembers the Holocaust
DESCRIPTION:Camp Gordon Johnston WWII Museum in Carrabelle is presenting an exhibit to remember the Holocaust\, Hitler’s program to commit genocide against those he deemed unworthy\, especially Europe’s Jews.  This exhibit will open on Tuesday\, March 31 and be on display at the museum until Saturday\, May 2.  The museum is open every Tuesday through Saturday from 11 am to 5 pm. There is no charge for admission\, but donations are gladly accepted. \n  \nBeginning in 1933\, the German Government established prison\, labor\, concentration\, and extermination camps throughout their territories\, including in countries they occupied before and during the war. Groups that were arrested and detained included Roma\, Communists\, Jehovah’s Witnesses\, homosexuals\, the disabled and especially Jews. Some 12 million people perished in the more than 44\,000 facilities\, ghettos and killing fields across Europe\, including 6 million Jews. The Museum acknowledges the need for all citizens to understand this dark period of history\, what caused it\, who perpetrated it\, and how some resisted and fought their captors. Eyewitnesses such as survivors and the soldiers that liberated these camps are aging and dying\, but many have told their stories. Visitors are invited to come see this sobering exhibit\, and help our society remember those that were victims of atrocity\, prejudice\, and hate. \n  \nThe internationally recognized date for Holocaust Remembrance Day corresponds to the 27th day of Nisan on the Hebrew calendar and it marks the anniversary of the Warsaw Ghetto Uprising which started on April 19\, 1943. In Hebrew\, Holocaust Remembrance Day is called Yom Hashoah. In 2026\, Yom HaShoah will be recognized beginning at sunset on the evening of Monday\, April 13 – Tuesday\, April 14. \n  \nCamp Gordon Johnston WWII Museum is located in Carrabelle\, directly across from Carrabelle Public Beach Park at 1873 Hwy 98 West. For more information\, contact Camp Gordon Johnston Museum at (850) 697-8575 or museum@campgordonjohnston.com. Funded in part by the Franklin County Tourist Development Council.
URL:https://www.apalachicolabay.org/event/camp-gordon-johnston-wwii-museum-remembers-the-holocaust-2/
LOCATION:Camp Gordon Johnston Museum\, 1873 Hwy 98 West\, Carrabelle\, Fl\, 32322
ATTACH;FMTTYPE=image/png:https://www.apalachicolabay.org/wp-content/uploads/2026/03/April-2026-Holocaust-CGJ-Exhibit-Square.png
END:VEVENT
BEGIN:VEVENT
DTSTART;TZID=America/New_York:20260501T150000
DTEND;TZID=America/New_York:20260501T170000
DTSTAMP:20260422T065624
CREATED:20260409T131630Z
LAST-MODIFIED:20260409T131630Z
UID:10009575-1777647600-1777654800@www.apalachicolabay.org
SUMMARY:Diane Peck Porcelain Trunk Show
DESCRIPTION:
URL:https://www.apalachicolabay.org/event/diane-peck-porcelain-trunk-show/
LOCATION:River’s Edge Gallery\, 59 Commerce St\, Apalachicola\, FL\, 32320\, United States
ATTACH;FMTTYPE=image/jpeg:https://www.apalachicolabay.org/wp-content/uploads/2026/04/Diane-Peck-Flyer.jpg
END:VEVENT
BEGIN:VEVENT
DTSTART;TZID=America/New_York:20260501T190000
DTEND;TZID=America/New_York:20260501T220000
DTSTAMP:20260422T065624
CREATED:20260409T130639Z
LAST-MODIFIED:20260409T130639Z
UID:10009572-1777662000-1777672800@www.apalachicolabay.org
SUMMARY:May 1 Twilight at the Tower at Crooked River Lighthouse
DESCRIPTION:The Crooked River Lighthouse will be hosting Twilight at the Tower on Friday\, May 1 from 7:00-10:00 pm ET in Carrabelle\, FL. This special event invites visitors to enjoy after-hours museum visits\, gift shop browsing\, a glowing bonfire\, tower climbs\, and the gorgeous natural surroundings of St. George Sound and Carrabelle Beach as evening falls and the Flower moon rises. \n  \nAs the season of spring progresses\, the days grow longer and the weather improves\, inspiring plants everywhere to “spring forth” and blossom! By May\, winter’s cold grip has loosened and many plants take the opportunity to produce flowers at this time. Due to this\, May’s full Moon has traditionally been known as the “Flower Moon.” (Credit: The Old Farmer’s Almanac). \n  \nThe Keeper’s House Museum will be open for after-hours tours featuring the lighthouse’s original Fresnel lens constructed in 1894 in Paris\, France. The lighthouse gift shop will offer a variety of unique nautical gifts and souvenirs\, and the Beacon Bistro will have delicious baked goodies\, popcorn\, hot chocolate\, and s’more kits available by donation. A glowing bonfire will create a perfect atmosphere for folks to kick back\, relax and enjoy the evening. As the sky shifts from watercolor hues to deep evening blues\, visitors are welcome to bring a chair and unwind on the lighthouse grounds. \n  \nVisitors seeking an unforgettable experience can enjoy twilight tower climbs to the top of the tallest lighthouse on the Forgotten Coast. From the top\, climbers will be treated to panoramic views of St. George Sound\, Carrabelle Beach and the beautiful colors of the evening sky. Climb reservations are encouraged. Evening climbs are scheduled at 15-minute intervals. Climbers 12 and under are free with ticketed adults and must be at least 44 inches tall.  Climb reservations are available in the gift shop or online at crookedriverlighthouse.com/full-moon-events/. \n  \nCrooked River Lighthouse is located at 1975 Hwy 98\, in Carrabelle. For details\, visit crookedriverlighthouse.com or contact carrabellelighthouse@gmail.com or 850-697-2732. Funded in part by the Franklin County Tourist Development Council
URL:https://www.apalachicolabay.org/event/may-1-twilight-at-the-tower-at-crooked-river-lighthouse/
LOCATION:Crooked River Lighthouse\, 1975 Hay 98 \, Carrabelle\, Fl\, 32322
ATTACH;FMTTYPE=image/jpeg:https://www.apalachicolabay.org/wp-content/uploads/2026/04/May-1-May-30-June-28-2026-Moon-Flyer.jpg
GEO:29.8271919;-84.7008007
X-APPLE-STRUCTURED-LOCATION;VALUE=URI;X-ADDRESS=Crooked River Lighthouse 1975 Hay 98  Carrabelle Fl 32322;X-APPLE-RADIUS=500;X-TITLE=1975 Hay 98:geo:-84.7008007,29.8271919
END:VEVENT
END:VCALENDAR