BEGIN:VCALENDAR
VERSION:2.0
PRODID:-//Apalachicola Bay Chamber of Commerce - ECPv6.15.20//NONSGML v1.0//EN
CALSCALE:GREGORIAN
METHOD:PUBLISH
X-WR-CALNAME:Apalachicola Bay Chamber of Commerce
X-ORIGINAL-URL:https://www.apalachicolabay.org
X-WR-CALDESC:Events for Apalachicola Bay Chamber of Commerce
REFRESH-INTERVAL;VALUE=DURATION:PT1H
X-Robots-Tag:noindex
X-PUBLISHED-TTL:PT1H
BEGIN:VTIMEZONE
TZID:America/New_York
BEGIN:DAYLIGHT
TZOFFSETFROM:-0500
TZOFFSETTO:-0400
TZNAME:EDT
DTSTART:20250309T070000
END:DAYLIGHT
BEGIN:STANDARD
TZOFFSETFROM:-0400
TZOFFSETTO:-0500
TZNAME:EST
DTSTART:20251102T060000
END:STANDARD
BEGIN:DAYLIGHT
TZOFFSETFROM:-0500
TZOFFSETTO:-0400
TZNAME:EDT
DTSTART:20260308T070000
END:DAYLIGHT
BEGIN:STANDARD
TZOFFSETFROM:-0400
TZOFFSETTO:-0500
TZNAME:EST
DTSTART:20261101T060000
END:STANDARD
BEGIN:DAYLIGHT
TZOFFSETFROM:-0500
TZOFFSETTO:-0400
TZNAME:EDT
DTSTART:20270314T070000
END:DAYLIGHT
BEGIN:STANDARD
TZOFFSETFROM:-0400
TZOFFSETTO:-0500
TZNAME:EST
DTSTART:20271107T060000
END:STANDARD
END:VTIMEZONE
BEGIN:VEVENT
DTSTART;TZID=America/New_York:20260331T110000
DTEND;TZID=America/New_York:20260502T170000
DTSTAMP:20260421T051710
CREATED:20260330T194127Z
LAST-MODIFIED:20260330T201219Z
UID:10009565-1774954800-1777741200@www.apalachicolabay.org
SUMMARY:Camp Gordon Johnston WWII Museum Remembers the Holocaust
DESCRIPTION:Camp Gordon Johnston WWII Museum in Carrabelle is presenting an exhibit to remember the Holocaust\, Hitler’s program to commit genocide against those he deemed unworthy\, especially Europe’s Jews.  This exhibit will open on Tuesday\, March 31 and be on display at the museum until Saturday\, May 2.  The museum is open every Tuesday through Saturday from 11 am to 5 pm. There is no charge for admission\, but donations are gladly accepted. \n  \nBeginning in 1933\, the German Government established prison\, labor\, concentration\, and extermination camps throughout their territories\, including in countries they occupied before and during the war. Groups that were arrested and detained included Roma\, Communists\, Jehovah’s Witnesses\, homosexuals\, the disabled and especially Jews. Some 12 million people perished in the more than 44\,000 facilities\, ghettos and killing fields across Europe\, including 6 million Jews. The Museum acknowledges the need for all citizens to understand this dark period of history\, what caused it\, who perpetrated it\, and how some resisted and fought their captors. Eyewitnesses such as survivors and the soldiers that liberated these camps are aging and dying\, but many have told their stories. Visitors are invited to come see this sobering exhibit\, and help our society remember those that were victims of atrocity\, prejudice\, and hate. \n  \nThe internationally recognized date for Holocaust Remembrance Day corresponds to the 27th day of Nisan on the Hebrew calendar and it marks the anniversary of the Warsaw Ghetto Uprising which started on April 19\, 1943. In Hebrew\, Holocaust Remembrance Day is called Yom Hashoah. In 2026\, Yom HaShoah will be recognized beginning at sunset on the evening of Monday\, April 13 – Tuesday\, April 14. \n  \nCamp Gordon Johnston WWII Museum is located in Carrabelle\, directly across from Carrabelle Public Beach Park at 1873 Hwy 98 West. For more information\, contact Camp Gordon Johnston Museum at (850) 697-8575 or museum@campgordonjohnston.com. Funded in part by the Franklin County Tourist Development Council.
URL:https://www.apalachicolabay.org/event/camp-gordon-johnston-wwii-museum-remembers-the-holocaust-2/
LOCATION:Camp Gordon Johnston Museum\, 1873 Hwy 98 West\, Carrabelle\, Fl\, 32322
ATTACH;FMTTYPE=image/png:https://www.apalachicolabay.org/wp-content/uploads/2026/03/April-2026-Holocaust-CGJ-Exhibit-Square.png
END:VEVENT
BEGIN:VEVENT
DTSTART;TZID=America/New_York:20260421T080000
DTEND;TZID=America/New_York:20260421T170000
DTSTAMP:20260421T051710
CREATED:20250805T174147Z
LAST-MODIFIED:20250805T174147Z
UID:10008256-1776758400-1776790800@www.apalachicolabay.org
SUMMARY:Free Tech Help Sessions Offered at the Carrabelle Library
DESCRIPTION:The Friends of the Franklin County Public Libraries (FFCPL) are pleased to announce a series of free educational Tech Help sessions this August at the Carrabelle Branch Library. These sessions are part of the Program Series\, offering something for everyone – young children\, students\, and lifelong learners. These events are open to the public—no library card is required—and offer a welcoming\, inclusive space for individuals of all ages to learn\, explore\, and connect through technology. \nThe Tech Help sessions will be held every Tuesday in August – August 5\, 12\, 19\, and 26 – at 11:00 am ET at the Carrabelle Branch Library\, located at 311 St. James Ave. SE (Highway 98)\, Carrabelle\, FL. These relaxed\, judgment-free sessions provide one-on-one technology assistance for guests who need help with devices\, email\, digital resources\, and basic tech skills. No registration is necessary—drop-ins are welcome! \nThe Friends of the Franklin County Public Libraries\, a 501(c)(3) organization\, offers the Program Series to ensure that the libraries in Eastpoint and Carrabelle continue to provide informational\, educational and cultural materials for the benefit of persons of all ages in the community. For details or to join the Friends\, please visit our website or contact the Carrabelle Branch at 850-275-9895. Funded in part by the Franklin County Tourist Development Council.
URL:https://www.apalachicolabay.org/event/free-tech-help-sessions-offered-at-the-carrabelle-library/2026-04-21/
LOCATION:Eastpoint Public Library\, 160 Hickory Dip Rd\, Eastpoint\, Fl\, 32328
END:VEVENT
BEGIN:VEVENT
DTSTART;TZID=America/New_York:20260421T110000
DTEND;TZID=America/New_York:20260421T170000
DTSTAMP:20260421T051710
CREATED:20250825T182727Z
LAST-MODIFIED:20250825T182727Z
UID:10008535-1776769200-1776790800@www.apalachicolabay.org
SUMMARY:Free Tech Help Sessions Continue at the Carrabelle Library
DESCRIPTION:The Friends of the Franklin County Public Libraries (FFCPL) are pleased to announce that a popular series of free educational Tech Help sessions will continue this September at the Carrabelle Branch Library. These sessions are part of the Program Series\, offering something for everyone – young children\, students\, and lifelong learners. These events are open to the public—no library card is required—and offer a welcoming\, inclusive space for individuals of all ages to learn\, explore\, and connect through technology. \n  \nThe Tech Help sessions will be held every Tuesday in September- September 2\, 9\, 16\, 23\, and 30 – at 11:00 am ET at the Carrabelle Branch Library\, located at 311 St. James Ave. SE (Highway 98)\, Carrabelle\, FL. These relaxed\, judgment-free sessions provide one-on-one technology assistance for guests who need help with devices\, email\, digital resources\, and basic tech skills. No registration is necessary—drop-ins are welcome! \n  \nThe Friends of the Franklin County Public Libraries\, a 501(c)(3) organization\, offers the Program Series to ensure that the libraries in Eastpoint and Carrabelle continue to provide informational\, educational and cultural materials for the benefit of persons of all ages in the community. For details or to join the Friends\, please visit https://friendsfcpl.com or contact the Carrabelle Branch at 850-275-9895. Funded in part by the Franklin County Tourist Development Council.
URL:https://www.apalachicolabay.org/event/free-tech-help-sessions-continue-at-the-carrabelle-library/2026-04-21/
LOCATION:Carrabelle Library  311 St James Ave  Carrabelle\, FL 32322 United States\, 311 st\, james\, Carrabelle\, Fl
ATTACH;FMTTYPE=image/png:https://www.apalachicolabay.org/wp-content/uploads/2025/08/TECH-HELP-Carrabelle-Sept-2025.png
END:VEVENT
BEGIN:VEVENT
DTSTART;TZID=America/New_York:20260421T143000
DTEND;TZID=America/New_York:20260421T170000
DTSTAMP:20260421T051710
CREATED:20250102T155257Z
LAST-MODIFIED:20250102T155257Z
UID:10006808-1776781800-1776790800@www.apalachicolabay.org
SUMMARY:Adult Crafternoon at the  Franklin County Public Libraries
DESCRIPTION:The Friends of the Franklin County Public Libraries (FFCPL) invites visitors and residents to enjoy a relaxing and creative afternoon at the upcoming Adult Crafternoon workshop. This engaging program will take place on Tuesday\, January 21\, at 2:30 pm ET\, at both the Eastpoint and Carrabelle branches. \n  \nParticipants will have the opportunity to create their own faux stained glass. This project offers guests an opportunity to make their own colorful work of art without the need for expensive equipment or advanced artistic skills\, making it perfect for crafters of all experience levels. Supplies are included\, and the event is free and open to all adults—no library card required. \n  \nAdult Crafternoon is part of the Franklin County Public Libraries’ Program Series\, which provides engaging activities for all ages. The Program Series is packed with exciting events\, including StoryTimes for children\, STEM Space for young explorers\, Kids Crafts and more. Each program is designed to cater to different interests\, ensuring that there’s something for everyone in the community. Regular programs will continue as scheduled\, including the Eastpoint Book Chat on the 1st Tuesday at 1:30 pm\, the Carrabelle Book Chat on the 1st Friday at 1:30 pm\, and the Eastpoint Writer’s Forum on the 3rd Wednesday at 1:00 pm. \n  \nThe Friends of the Franklin County Public Libraries\, a 501(c)(3) organization dedicated to supporting the libraries in Eastpoint and Carrabelle\, proudly sponsor the Fall Program Series. Their continued efforts help ensure that the libraries remain vibrant community hubs\, offering valuable programs and resources for all. \n  \nGuests are encouraged to seize this opportunity to craft and chill! For more information about the Adult Crafternoon event or any of the other upcoming programs\, please contact the Eastpoint Branch at 160 Hickory Dip Rd\, Eastpoint\, 850-670-8151 or the Carrabelle Branch at 311 St\, James Ave (Hwy 98)\, Carrabelle\, 850-697-2366.  Those interested can also visit the FFCPL website at https://friendsfcpl.com for more details. Funded in part by the Franklin County Tourist Development Council. \n 
URL:https://www.apalachicolabay.org/event/adult-crafternoon-at-the-franklin-county-public-libraries/2026-04-21/
LOCATION:Eastpoint Public Library\, 160 Hickory Dip Rd\, Eastpoint\, Fl\, 32328
ATTACH;FMTTYPE=image/png:https://www.apalachicolabay.org/wp-content/uploads/2025/01/JANUARY-25.png
ORGANIZER;CN="Franklin County Friends of the Library":MAILTO:colston_adele@yahoo.com
END:VEVENT
END:VCALENDAR