BEGIN:VCALENDAR
VERSION:2.0
PRODID:-//Apalachicola Bay Chamber of Commerce - ECPv6.15.20//NONSGML v1.0//EN
CALSCALE:GREGORIAN
METHOD:PUBLISH
X-ORIGINAL-URL:https://www.apalachicolabay.org
X-WR-CALDESC:Events for Apalachicola Bay Chamber of Commerce
REFRESH-INTERVAL;VALUE=DURATION:PT1H
X-Robots-Tag:noindex
X-PUBLISHED-TTL:PT1H
BEGIN:VTIMEZONE
TZID:America/New_York
BEGIN:DAYLIGHT
TZOFFSETFROM:-0500
TZOFFSETTO:-0400
TZNAME:EDT
DTSTART:20250309T070000
END:DAYLIGHT
BEGIN:STANDARD
TZOFFSETFROM:-0400
TZOFFSETTO:-0500
TZNAME:EST
DTSTART:20251102T060000
END:STANDARD
BEGIN:DAYLIGHT
TZOFFSETFROM:-0500
TZOFFSETTO:-0400
TZNAME:EDT
DTSTART:20260308T070000
END:DAYLIGHT
BEGIN:STANDARD
TZOFFSETFROM:-0400
TZOFFSETTO:-0500
TZNAME:EST
DTSTART:20261101T060000
END:STANDARD
BEGIN:DAYLIGHT
TZOFFSETFROM:-0500
TZOFFSETTO:-0400
TZNAME:EDT
DTSTART:20270314T070000
END:DAYLIGHT
BEGIN:STANDARD
TZOFFSETFROM:-0400
TZOFFSETTO:-0500
TZNAME:EST
DTSTART:20271107T060000
END:STANDARD
END:VTIMEZONE
BEGIN:VEVENT
DTSTART;TZID=America/New_York:20260331T110000
DTEND;TZID=America/New_York:20260502T170000
DTSTAMP:20260422T062911
CREATED:20260330T194127Z
LAST-MODIFIED:20260330T201219Z
UID:10009565-1774954800-1777741200@www.apalachicolabay.org
SUMMARY:Camp Gordon Johnston WWII Museum Remembers the Holocaust
DESCRIPTION:Camp Gordon Johnston WWII Museum in Carrabelle is presenting an exhibit to remember the Holocaust\, Hitler’s program to commit genocide against those he deemed unworthy\, especially Europe’s Jews.  This exhibit will open on Tuesday\, March 31 and be on display at the museum until Saturday\, May 2.  The museum is open every Tuesday through Saturday from 11 am to 5 pm. There is no charge for admission\, but donations are gladly accepted. \n  \nBeginning in 1933\, the German Government established prison\, labor\, concentration\, and extermination camps throughout their territories\, including in countries they occupied before and during the war. Groups that were arrested and detained included Roma\, Communists\, Jehovah’s Witnesses\, homosexuals\, the disabled and especially Jews. Some 12 million people perished in the more than 44\,000 facilities\, ghettos and killing fields across Europe\, including 6 million Jews. The Museum acknowledges the need for all citizens to understand this dark period of history\, what caused it\, who perpetrated it\, and how some resisted and fought their captors. Eyewitnesses such as survivors and the soldiers that liberated these camps are aging and dying\, but many have told their stories. Visitors are invited to come see this sobering exhibit\, and help our society remember those that were victims of atrocity\, prejudice\, and hate. \n  \nThe internationally recognized date for Holocaust Remembrance Day corresponds to the 27th day of Nisan on the Hebrew calendar and it marks the anniversary of the Warsaw Ghetto Uprising which started on April 19\, 1943. In Hebrew\, Holocaust Remembrance Day is called Yom Hashoah. In 2026\, Yom HaShoah will be recognized beginning at sunset on the evening of Monday\, April 13 – Tuesday\, April 14. \n  \nCamp Gordon Johnston WWII Museum is located in Carrabelle\, directly across from Carrabelle Public Beach Park at 1873 Hwy 98 West. For more information\, contact Camp Gordon Johnston Museum at (850) 697-8575 or museum@campgordonjohnston.com. Funded in part by the Franklin County Tourist Development Council.
URL:https://www.apalachicolabay.org/event/camp-gordon-johnston-wwii-museum-remembers-the-holocaust-2/
LOCATION:Camp Gordon Johnston Museum\, 1873 Hwy 98 West\, Carrabelle\, Fl\, 32322
ATTACH;FMTTYPE=image/png:https://www.apalachicolabay.org/wp-content/uploads/2026/03/April-2026-Holocaust-CGJ-Exhibit-Square.png
END:VEVENT
BEGIN:VEVENT
DTSTART;TZID=America/New_York:20260402T190000
DTEND;TZID=America/New_York:20260402T220000
DTSTAMP:20260422T062911
CREATED:20260319T172002Z
LAST-MODIFIED:20260319T172002Z
UID:10009562-1775156400-1775167200@www.apalachicolabay.org
SUMMARY:Twilight at the Tower at Crooked River Lighthouse
DESCRIPTION:The Crooked River Lighthouse will be hosting Twilight at the Tower on Thursday\, April 2 from 7:00-10:00 pm ET in Carrabelle\, FL. This special event invites visitors to enjoy after-hours museum visits\, gift shop browsing\, a glowing bonfire\, tower climbs\, and the gorgeous natural surroundings of St. George Sound and Carrabelle Beach as evening falls and the moon rises. Plus guests will enjoy a participative experience called a ”Sound Bath”\, a guided relaxation experience using calming\, continuous sounds to relax the body and mind. Admission is free and evening climbs are $6 for the public\, free for current members and free for those 12 and under with a ticketed adult. Climb reservations are available in the gift shop or online at crookedriverlighthouse.com/full-moon-events/. \n  \nA sound bath explores the powerful vibrations of harmonic tones as a source of healing. This unique\, meditative session will be presented by The Gong Experience gongliers (gong players) Sahadev and Kasimira. The gong\, an ancient instrument\, when properly played resonates pure sound that can reach deep emotional places in a powerful and primal way. Guests are welcome to bring a chair and sit\, watch\, listen\, feel and experience this meditative event. \n  \nSahadev (Steve Brazier) and Kasimira Vogel are musicians and yogis who have devotedly studied gong techniques. They have made it their personal mission to share this special gift of healing with as many people as they can. Kasimira\, Reiki Master and Meditation instructor\, adds elements of Native flute and vocal sounds while infusing Reiki into the gongs for added healing. \n  \nThe Keeper’s House Museum will be open for after-hours tours featuring the lighthouse’s original Fresnel lens constructed in 1894 in Paris\, France. The lighthouse gift shop will offer a variety of unique nautical gifts and souvenirs\, and the Beacon Bistro will have delicious baked goodies\, popcorn\, hot chocolate\, and s’more kits available by donation. A glowing bonfire will create a perfect atmosphere for folks to kick back\, relax and enjoy the evening. As the sky shifts from watercolor hues to deep evening blues\, visitors are welcome to bring a chair and unwind on the lighthouse grounds. \n  \nVisitors seeking an unforgettable experience can enjoy twilight tower climbs to the top of the tallest lighthouse on the Forgotten Coast. From the top\, climbers will be treated to panoramic views of St. George Sound\, Carrabelle Beach and the beautiful colors of the evening sky. Climb reservations are encouraged. Evening climbs are scheduled at 15-minute intervals and cost $6 for the public and free for current members. Climbers 12 and under are free with ticketed adults and must be at least 44 inches tall. \n  \nCrooked River Lighthouse is located at 1975 Hwy 98\, in Carrabelle. For details\, visit crookedriverlighthouse.com or contact carrabellelighthouse@gmail.com or 850-697-2732. Funded in part by the Franklin County Tourist Development Council.
URL:https://www.apalachicolabay.org/event/twilight-at-the-tower-at-crooked-river-lighthouse-2/
LOCATION:Crooked River Lighthouse\, 1975 Hay 98 \, Carrabelle\, Fl\, 32322
ATTACH;FMTTYPE=image/jpeg:https://www.apalachicolabay.org/wp-content/uploads/2026/03/CRL-Twilight-Sound-Bath-April-2026-1.jpg
GEO:29.8271919;-84.7008007
X-APPLE-STRUCTURED-LOCATION;VALUE=URI;X-ADDRESS=Crooked River Lighthouse 1975 Hay 98  Carrabelle Fl 32322;X-APPLE-RADIUS=500;X-TITLE=1975 Hay 98:geo:-84.7008007,29.8271919
END:VEVENT
END:VCALENDAR