BEGIN:VCALENDAR
VERSION:2.0
PRODID:-//Apalachicola Bay Chamber of Commerce - ECPv6.15.20//NONSGML v1.0//EN
CALSCALE:GREGORIAN
METHOD:PUBLISH
X-ORIGINAL-URL:https://www.apalachicolabay.org
X-WR-CALDESC:Events for Apalachicola Bay Chamber of Commerce
REFRESH-INTERVAL;VALUE=DURATION:PT1H
X-Robots-Tag:noindex
X-PUBLISHED-TTL:PT1H
BEGIN:VTIMEZONE
TZID:America/New_York
BEGIN:DAYLIGHT
TZOFFSETFROM:-0500
TZOFFSETTO:-0400
TZNAME:EDT
DTSTART:20250309T070000
END:DAYLIGHT
BEGIN:STANDARD
TZOFFSETFROM:-0400
TZOFFSETTO:-0500
TZNAME:EST
DTSTART:20251102T060000
END:STANDARD
BEGIN:DAYLIGHT
TZOFFSETFROM:-0500
TZOFFSETTO:-0400
TZNAME:EDT
DTSTART:20260308T070000
END:DAYLIGHT
BEGIN:STANDARD
TZOFFSETFROM:-0400
TZOFFSETTO:-0500
TZNAME:EST
DTSTART:20261101T060000
END:STANDARD
BEGIN:DAYLIGHT
TZOFFSETFROM:-0500
TZOFFSETTO:-0400
TZNAME:EDT
DTSTART:20270314T070000
END:DAYLIGHT
BEGIN:STANDARD
TZOFFSETFROM:-0400
TZOFFSETTO:-0500
TZNAME:EST
DTSTART:20271107T060000
END:STANDARD
END:VTIMEZONE
BEGIN:VEVENT
DTSTART;TZID=America/New_York:20260331T110000
DTEND;TZID=America/New_York:20260502T170000
DTSTAMP:20260422T063715
CREATED:20260330T194127Z
LAST-MODIFIED:20260330T201219Z
UID:10009565-1774954800-1777741200@www.apalachicolabay.org
SUMMARY:Camp Gordon Johnston WWII Museum Remembers the Holocaust
DESCRIPTION:Camp Gordon Johnston WWII Museum in Carrabelle is presenting an exhibit to remember the Holocaust\, Hitler’s program to commit genocide against those he deemed unworthy\, especially Europe’s Jews.  This exhibit will open on Tuesday\, March 31 and be on display at the museum until Saturday\, May 2.  The museum is open every Tuesday through Saturday from 11 am to 5 pm. There is no charge for admission\, but donations are gladly accepted. \n  \nBeginning in 1933\, the German Government established prison\, labor\, concentration\, and extermination camps throughout their territories\, including in countries they occupied before and during the war. Groups that were arrested and detained included Roma\, Communists\, Jehovah’s Witnesses\, homosexuals\, the disabled and especially Jews. Some 12 million people perished in the more than 44\,000 facilities\, ghettos and killing fields across Europe\, including 6 million Jews. The Museum acknowledges the need for all citizens to understand this dark period of history\, what caused it\, who perpetrated it\, and how some resisted and fought their captors. Eyewitnesses such as survivors and the soldiers that liberated these camps are aging and dying\, but many have told their stories. Visitors are invited to come see this sobering exhibit\, and help our society remember those that were victims of atrocity\, prejudice\, and hate. \n  \nThe internationally recognized date for Holocaust Remembrance Day corresponds to the 27th day of Nisan on the Hebrew calendar and it marks the anniversary of the Warsaw Ghetto Uprising which started on April 19\, 1943. In Hebrew\, Holocaust Remembrance Day is called Yom Hashoah. In 2026\, Yom HaShoah will be recognized beginning at sunset on the evening of Monday\, April 13 – Tuesday\, April 14. \n  \nCamp Gordon Johnston WWII Museum is located in Carrabelle\, directly across from Carrabelle Public Beach Park at 1873 Hwy 98 West. For more information\, contact Camp Gordon Johnston Museum at (850) 697-8575 or museum@campgordonjohnston.com. Funded in part by the Franklin County Tourist Development Council.
URL:https://www.apalachicolabay.org/event/camp-gordon-johnston-wwii-museum-remembers-the-holocaust-2/
LOCATION:Camp Gordon Johnston Museum\, 1873 Hwy 98 West\, Carrabelle\, Fl\, 32322
ATTACH;FMTTYPE=image/png:https://www.apalachicolabay.org/wp-content/uploads/2026/03/April-2026-Holocaust-CGJ-Exhibit-Square.png
END:VEVENT
BEGIN:VEVENT
DTSTART;TZID=America/New_York:20260401T080000
DTEND;TZID=America/New_York:20260401T170000
DTSTAMP:20260422T063715
CREATED:20251105T202700Z
LAST-MODIFIED:20251105T202700Z
UID:10009256-1775030400-1775062800@www.apalachicolabay.org
SUMMARY:Knit / Crochet & Visit
DESCRIPTION:Knit or Crochet & Visit \nAt River’s Edge Gallery \nWednesday Afternoons 1-5 p.m. \n  \nJoin fellow knitters & crochet lovers for informal afternoons of yarn talk & techniques \n* \nWe now carry the fine yarns\, formerly from Downtown Books & Purl \nCome on in\, bring your project\, bring a friend and let’s visit! \n  \n  \nRiver’s Edge Gallery \n59 Commerce St  Apalachicola\, FL         850-653-1031 \nEmail: info@riversedgegallery.art    Website: riversedgegallery.art
URL:https://www.apalachicolabay.org/event/knit-crochet-visit/2026-04-01/
LOCATION:River’s Edge Gallery\, 59 Commerce St\, Apalachicola\, FL\, 32320\, United States
ORGANIZER;CN="River's Edge Gallery":MAILTO:dingle576@yahoo.com
END:VEVENT
BEGIN:VEVENT
DTSTART;TZID=America/New_York:20260401T193000
DTEND;TZID=America/New_York:20260401T213000
DTSTAMP:20260422T063715
CREATED:20260225T185048Z
LAST-MODIFIED:20260225T185048Z
UID:10009554-1775071800-1775079000@www.apalachicolabay.org
SUMMARY:CAPE ST. GEORGE LIGHT TO HOST APRIL SUNSET AND FULL MOON CLIMB
DESCRIPTION:CAPE ST. GEORGE LIGHT TO HOST APRIL SUNSET AND FULL MOON CLIMB\nWednesday\, April 1\, 2026 | 7:45–9:45 p.m. | St. George Island\, Florida \n\n GEORGE ISLAND\, FL – The St. George Lighthouse Association invites the public to experience the magic of the full moon with a Sunset and Full Moon Climb at the Cape St. George Light on Wednesday\, April 1\, 2026\, from 7:45 to 9:45 p.m.\n\nEvent Highlights  \n\nSunset at 7:58 p.m.\nMoonrise at 7:51 p.m.\n\n  \nClimb Details \n\nTime: 7:45 p.m. to 9:45 p.m.\nTickets: Tickets can be purchased beginning at 7:15 p.m. in the Lighthouse Gift Shop. No advance reservations will be accepted.\nCost: General Public – $10.00 per climber; SGLA Member – $7.00 per climber\nPayment: Cash and credit cards are accepted.\nFormat: Fifteen-minute lighthouse climbs are offered on a first-come\, first-served basis.\nCapacity: Each time slot is limited to 12 climbers to ensure safety and comfort.\n\n  \nVisitor Requirements \n\nAll climbers must be at least 40 inches tall.\nFor safety reasons\, only children aged 13 and older may access the exterior catwalk.\n\n  \nLocation – The Cape St. George Light is in Lighthouse Park at the center of St. George Island – End of Island Drive (off the bridge) at Gulf Beach Drive. \n  \nHow to Participate \n\nArrive at Lighthouse Park and park in lots on either side of the park.\nVisit the Gift Shop (opening at 7:15 p.m.) to purchase your climb ticket.\nProceed next door to the lighthouse tower and sign up with the lighthouse keeper for your preferred 15-minute climb time.\nPrepare for an unforgettable experience of sweeping panoramic views of Gulf waters and island shores.\n\n  \nWeather Permitting – The Sunset and Full Moon Climb is weather permitting. In the event of inclement conditions\, updates will be posted on the St. George Lighthouse\, Museum & Gift Shop Facebook page.\n\nAbout the Pink Moon\nThe April full moon\, traditionally called the “Pink Moon\,” was named by early Native American tribes not for the color of the Moon itself\, but for the early spring bloom of phlox\, a pink moss wildflower that appears in parts of North America this time of year. As winter finally releases its grip\, the landscape begins to shift toward new growth\, migration\, and warming temperatures. Other names include Frog Moon\, Loon Moon\, Sea Moon\, Growing Moon\, It’s Thundering Moon and Planting Moon.
URL:https://www.apalachicolabay.org/event/cape-st-george-light-to-host-april-sunset-and-full-moon-climb-2/
LOCATION:St. George Island Lighthouse\, 2 east Gulf Beach Drive\, St. George Island\, Florida\, 32328
GEO:29.674477;-84.824876
X-APPLE-STRUCTURED-LOCATION;VALUE=URI;X-ADDRESS=St. George Island Lighthouse 2 east Gulf Beach Drive St. George Island Florida 32328;X-APPLE-RADIUS=500;X-TITLE=2 east Gulf Beach Drive:geo:-84.824876,29.674477
END:VEVENT
BEGIN:VEVENT
DTSTART;TZID=America/New_York:20260401T193000
DTEND;TZID=America/New_York:20260401T220000
DTSTAMP:20260422T063715
CREATED:20260312T155337Z
LAST-MODIFIED:20260312T155337Z
UID:10009558-1775071800-1775080800@www.apalachicolabay.org
SUMMARY:CAPE ST. GEORGE LIGHT TO HOST APRIL SUNSET AND FULL MOON CLIMB
DESCRIPTION:The St. George Lighthouse Association invites the public to experience the magic of the full moon with a Sunset and Full Moon Climb at the Cape St. George Light on Wednesday\, April 1\, 2026\, from 7:45 to 9:45 p.m. \nEvent Highlights  \n\nSunset at 7:58 p.m.\nMoonrise at 7:51 p.m.\n\n  \nClimb Details \n\nTime: 7:45 p.m. to 9:45 p.m.\nTickets: Tickets can be purchased beginning at 7:15 p.m. in the Lighthouse Gift Shop. No advance reservations will be accepted.\nCost: General Public – $10.00 per climber; SGLA Member – $7.00 per climber\nPayment: Cash and credit cards are accepted.\nFormat: Fifteen-minute lighthouse climbs are offered on a first-come\, first-served basis.\nCapacity: Each time slot is limited to 12 climbers to ensure safety and comfort.\n\n  \nVisitor Requirements \n\nAll climbers must be at least 40 inches tall.\nFor safety reasons\, only children aged 13 and older may access the exterior catwalk.\n\n  \nLocation – The Cape St. George Light is in Lighthouse Park at the center of St. George Island – End of Island Drive (off the bridge) at Gulf Beach Drive. \n  \nHow to Participate \n\nArrive at Lighthouse Park and park in lots on either side of the park.\nVisit the Gift Shop (opening at 7:15 p.m.) to purchase your climb ticket.\nProceed next door to the lighthouse tower and sign up with the lighthouse keeper for your preferred 15-minute climb time.\nPrepare for an unforgettable experience of sweeping panoramic views of Gulf waters and island shores.\n\n  \nWeather Permitting – The Sunset and Full Moon Climb is weather permitting. In the event of inclement conditions\, updates will be posted on the St. George Lighthouse\, Museum & Gift Shop Facebook page.\n\nAbout the Pink Moon\nThe April full moon\, traditionally called the “Pink Moon\,” was named by early Native American tribes not for the color of the Moon itself\, but for the early spring bloom of phlox\, a pink moss wildflower that appears in parts of North America this time of year. As winter finally releases its grip\, the landscape begins to shift toward new growth\, migration\, and warming temperatures. Other names include Frog Moon\, Loon Moon\, Sea Moon\, Growing Moon\, It’s Thundering Moon and Planting Moon.
URL:https://www.apalachicolabay.org/event/cape-st-george-light-to-host-april-sunset-and-full-moon-climb-4/
LOCATION:St. George Island Lighthouse\, 2 east Gulf Beach Drive\, St. George Island\, Florida\, 32328
GEO:29.674477;-84.824876
X-APPLE-STRUCTURED-LOCATION;VALUE=URI;X-ADDRESS=St. George Island Lighthouse 2 east Gulf Beach Drive St. George Island Florida 32328;X-APPLE-RADIUS=500;X-TITLE=2 east Gulf Beach Drive:geo:-84.824876,29.674477
END:VEVENT
BEGIN:VEVENT
DTSTART;TZID=America/New_York:20260401T194500
DTEND;TZID=America/New_York:20260401T214500
DTSTAMP:20260422T063715
CREATED:20251230T175656Z
LAST-MODIFIED:20251230T175656Z
UID:10009515-1775072700-1775079900@www.apalachicolabay.org
SUMMARY:CAPE ST. GEORGE LIGHT TO HOST APRIL SUNSET AND FULL MOON CLIMB
DESCRIPTION:CAPE ST. GEORGE LIGHT TO HOST APRIL SUNSET AND FULL MOON CLIMB\nThursday\, April 1\, 2026 | 7:45–9:45 p.m. | St. George Island\, Florida \nST. GEORGE ISLAND\, FL – The St. George Lighthouse Association invites the public to experience the magic of the full moon with a Sunset and Full Moon Climb at the Cape St. George Light on Thursday\, April 1\, 2026\, from 7:45 to 9:45 p.m.\nEvent Highlights\n•	Sunset at 7:58 p.m.\n•	Moonrise at 7:51 p.m.  \nClimb Details\n•	Time: 7:45 p.m. to 9:45 p.m.\n•	Tickets: Tickets can be purchased beginning at 7:15 p.m. in the Lighthouse Gift Shop. No advance reservations will be accepted.\n•	Cost: General Public – $10.00 per climber; SGLA Member – $7.00 per climber\n•	Payment: Cash and credit cards are accepted.\n•	Format: Fifteen-minute lighthouse climbs are offered on a first-come\, first-served basis.\n•	Capacity: Each time slot is limited to 12 climbers to ensure safety and comfort. \nVisitor Requirements\n•	All climbers must be at least 40 inches tall.\n•	For safety reasons\, only children aged 13 and older may access the exterior catwalk. \nLocation – The Cape St. George Light is in Lighthouse Park at the center of St. George Island – End of Island Drive (off the bridge) at Gulf Beach Drive. \nHow to Participate\n1.	Arrive at Lighthouse Park and park in lots on either side of the park.\n2.	Visit the Gift Shop (opening at 7:15 p.m.) to purchase your climb ticket.\n3.	Proceed next door to the lighthouse tower and sign up with the lighthouse keeper for your preferred 15-minute climb time.\n4.	Prepare for an unforgettable experience of sweeping panoramic views of Gulf waters and island shores. \nWeather Permitting – The Sunset and Full Moon Climb is weather permitting. In the event of inclement conditions\, updates will be posted on the St. George Lighthouse\, Museum & Gift Shop Facebook page. \nAbout the Pink Moon\nThe April full moon\, traditionally called the “Pink Moon\,” was named by early Native American tribes not for the color of the Moon itself\, but for the early spring bloom of phlox\, a pink moss wildflower that appears in parts of North America this time of year. As winter finally releases its grip\, the landscape begins to shift toward new growth\, migration\, and warming temperatures. Other names include Frog Moon\, Loon Moon\, Sea Moon\, Growing Moon\, It’s Thundering Moon and Planting Moon.
URL:https://www.apalachicolabay.org/event/cape-st-george-light-to-host-april-sunset-and-full-moon-climb/
LOCATION:Cape St. George Lighthouse\, 2B East Gulf Beach Drive\, Eastpoint\, FL\, 32328
ATTACH;FMTTYPE=image/jpeg:https://www.apalachicolabay.org/wp-content/uploads/2025/12/Full-Moon.jpg
ORGANIZER;CN="St George Lighthouse Association":MAILTO:info@stgeorgelight.org
END:VEVENT
BEGIN:VEVENT
DTSTART;TZID=America/New_York:20260401T194500
DTEND;TZID=America/New_York:20260401T214500
DTSTAMP:20260422T063715
CREATED:20260225T210722Z
LAST-MODIFIED:20260225T210722Z
UID:10009555-1775072700-1775079900@www.apalachicolabay.org
SUMMARY:CAPE ST. GEORGE LIGHT TO HOST APRIL SUNSET AND FULL MOON CLIMB
DESCRIPTION:The St. George Lighthouse Association invites the public to experience the magic of the full moon with a Sunset and Full Moon Climb at the Cape St. George Light on Wednesday\, April 1\, 2026\, from 7:45 to 9:45 p.m.\nEvent Highlights\n• Sunset at 7:58 p.m.\n• Moonrise at 7:51 p.m. \nClimb Details\n• Time: 7:45 p.m. to 9:45 p.m.\n• Tickets: Tickets can be purchased beginning at 7:15 p.m. in the Lighthouse Gift Shop. No advance reservations will be accepted.\n• Cost: General Public – $10.00 per climber; SGLA Member – $7.00 per climber\n• Payment: Cash and credit cards are accepted.\n• Format: Fifteen-minute lighthouse climbs are offered on a first-come\, first-served basis.\n• Capacity: Each time slot is limited to 12 climbers to ensure safety and comfort. \nVisitor Requirements\n• All climbers must be at least 40 inches tall.\n• For safety reasons\, only children aged 13 and older may access the exterior catwalk. \nLocation – The Cape St. George Light is in Lighthouse Park at the center of St. George Island – End of Island Drive (off the bridge) at Gulf Beach Drive. \nHow to Participate\n1. Arrive at Lighthouse Park and park in lots on either side of the park.\n2. Visit the Gift Shop (opening at 7:15 p.m.) to purchase your climb ticket.\n3. Proceed next door to the lighthouse tower and sign up with the lighthouse keeper for your preferred 15-minute climb time.\n4. Prepare for an unforgettable experience of sweeping panoramic views of Gulf waters and island shores. \nWeather Permitting – The Sunset and Full Moon Climb is weather permitting. In the event of inclement conditions\, updates will be posted on the St. George Lighthouse\, Museum & Gift Shop Facebook page. \nAbout the Pink Moon\nThe April full moon\, traditionally called the “Pink Moon\,” was named by early Native American tribes not for the color of the Moon itself\, but for the early spring bloom of phlox\, a pink moss wildflower that appears in parts of North America this time of year. As winter finally releases its grip\, the landscape begins to shift toward new growth\, migration\, and warming temperatures. Other names include Frog Moon\, Loon Moon\, Sea Moon\, Growing Moon\, It’s Thundering Moon and Planting Moon.
URL:https://www.apalachicolabay.org/event/cape-st-george-light-to-host-april-sunset-and-full-moon-climb-3/
LOCATION:Cape St. George Lighthouse\, 2B East Gulf Beach Drive\, Eastpoint\, FL\, 32328
ATTACH;FMTTYPE=image/jpeg:https://www.apalachicolabay.org/wp-content/uploads/2026/02/Full-Moon.jpg
ORGANIZER;CN="St George Lighthouse Association":MAILTO:info@stgeorgelight.org
END:VEVENT
END:VCALENDAR