BEGIN:VCALENDAR
VERSION:2.0
PRODID:-//Apalachicola Bay Chamber of Commerce - ECPv6.15.20//NONSGML v1.0//EN
CALSCALE:GREGORIAN
METHOD:PUBLISH
X-ORIGINAL-URL:https://www.apalachicolabay.org
X-WR-CALDESC:Events for Apalachicola Bay Chamber of Commerce
REFRESH-INTERVAL;VALUE=DURATION:PT1H
X-Robots-Tag:noindex
X-PUBLISHED-TTL:PT1H
BEGIN:VTIMEZONE
TZID:America/New_York
BEGIN:DAYLIGHT
TZOFFSETFROM:-0500
TZOFFSETTO:-0400
TZNAME:EDT
DTSTART:20250309T070000
END:DAYLIGHT
BEGIN:STANDARD
TZOFFSETFROM:-0400
TZOFFSETTO:-0500
TZNAME:EST
DTSTART:20251102T060000
END:STANDARD
BEGIN:DAYLIGHT
TZOFFSETFROM:-0500
TZOFFSETTO:-0400
TZNAME:EDT
DTSTART:20260308T070000
END:DAYLIGHT
BEGIN:STANDARD
TZOFFSETFROM:-0400
TZOFFSETTO:-0500
TZNAME:EST
DTSTART:20261101T060000
END:STANDARD
BEGIN:DAYLIGHT
TZOFFSETFROM:-0500
TZOFFSETTO:-0400
TZNAME:EDT
DTSTART:20270314T070000
END:DAYLIGHT
BEGIN:STANDARD
TZOFFSETFROM:-0400
TZOFFSETTO:-0500
TZNAME:EST
DTSTART:20271107T060000
END:STANDARD
END:VTIMEZONE
BEGIN:VEVENT
DTSTART;TZID=America/New_York:20260202T110000
DTEND;TZID=America/New_York:20260228T170000
DTSTAMP:20260421T140355
CREATED:20251213T173225Z
LAST-MODIFIED:20251213T173225Z
UID:10009508-1770030000-1772298000@www.apalachicolabay.org
SUMMARY:Special Exhibit: Honoring our African American Servicemembers
DESCRIPTION:Camp Gordon Johnston WWII Museum in Carrabelle is presenting a special exhibit in recognition of Black History Month honoring  the service of African-American servicemembers in WWII. This exhibit will open Tuesday\, February 3\, 2026 and will be on display at the museum until Saturday\, February 28\, 2026. The museum is open every Tuesday through Saturday from 11 am to 5 pm ET and there is no charge for admission. \n  \nAfrican Americans served in large numbers during WWII despite being denied full rights as American citizens. They served in segregated units in both the Army and the Army Air Corps\, one of the most recognizable being the Tuskegee Airmen. Many African American soldiers trained at Camp Gordon Johnston in transportation units such as Amphibious Truck Companies\, where support units often worked close to combat and came under fire. \n  \nAt Camp Gordon Johnston\, these Amphibious Truck Companies trained in the use of the amphibious truck known as the DUKW\, using the bay and sandy beaches in Carrabelle and all along the Forgotten Coast to practice operating\, loading and unloading these truly amphibious vehicles. The Museum continues its research into the units that trained at Camp Gordon Johnston in Carrabelle and served in World War II including being part of the campaign on Iwo Jima. \n  \nThis exhibit will share what has been uncovered about these servicemen who\, like many African Americans of the era\, served their country with honor in a still-segregated military and faced significant challenges along the way. \n  \nCamp Gordon Johnston WWII Museum is located in Carrabelle\, directly across from Carrabelle Public Beach Park at 1873 Hwy 98 West. For more information\, contact Camp Gordon Johnston Museum at (850) 697-8575 or museum@campgordonjohnston.com. Funded in part by the Franklin County Tourist Development Council.
URL:https://www.apalachicolabay.org/event/special-exhibit-honoring-our-african-american-servicemembers/
LOCATION:The Carrabelle History Museum\, 106 Avenue B SE\, Carrabelle\, FL\, 32322\, United States
ATTACH;FMTTYPE=image/png:https://www.apalachicolabay.org/wp-content/uploads/2025/12/African-Am-Svc-Feb-2025-CGJ-Exhibit-2.png
GEO:29.8477061;-84.660104
X-APPLE-STRUCTURED-LOCATION;VALUE=URI;X-ADDRESS=The Carrabelle History Museum 106 Avenue B SE Carrabelle FL 32322 United States;X-APPLE-RADIUS=500;X-TITLE=106 Avenue B SE:geo:-84.660104,29.8477061
END:VEVENT
BEGIN:VEVENT
DTSTART;TZID=America/New_York:20260221T080000
DTEND;TZID=America/New_York:20260222T170000
DTSTAMP:20260421T140355
CREATED:20260211T170848Z
LAST-MODIFIED:20260211T170848Z
UID:10009548-1771660800-1771779600@www.apalachicolabay.org
SUMMARY:H'COLA Annual Festival of Events
DESCRIPTION:
URL:https://www.apalachicolabay.org/event/hcola-annual-festival-of-events/
LOCATION:Florida
ATTACH;FMTTYPE=image/jpeg:https://www.apalachicolabay.org/wp-content/uploads/2026/02/hcola-run-the-hill2026.jpg
END:VEVENT
BEGIN:VEVENT
DTSTART;TZID=America/New_York:20260222T160000
DTEND;TZID=America/New_York:20260222T180000
DTSTAMP:20260421T140355
CREATED:20260109T201234Z
LAST-MODIFIED:20260109T201234Z
UID:10009522-1771776000-1771783200@www.apalachicolabay.org
SUMMARY:Anita Graef
DESCRIPTION:American cellist Anita Graef has garnered acclaim as a musician of “superb artistry” (Pasadena Now) who performs with “high energy and polish” (WQXR). She has appeared extensively throughout North America and Europe in concerto\, recital\, and chamber music engagements\, establishing a remarkable artistic voice defined by her charismatic stage presence\, versatility\, and infectious joy. Her notable performances include Carnegie Hall’s Weill Recital Hall\, the Dame Myra Hess Memorial Concert series\, and Concerts from the Library of Congress\, with features in Strings Magazine and appearances on WQXR\, WFMT\, NPR and more. \nMs. Graef’s recent concerto appearances include performances with the Louisville Orchestra\, Arkansas Philharmonic\, Riverside Symphony\, and Miami Valley Symphony\, among others. Highlights of the 2025-26 season include debut performances at Honest Brook Music Festival (NY)\, George Flynn Classical Concerts (CT)\, ArtsLIVE at University of Dayton (OH)\, Classix Festival (Romania)\, the Jefferson Center (VA)\, WDAV 99.9 (NC)\, as well as return engagements to the Driehaus Museum\, Washington and Lee University\, the La Grua Center and Green Lake Festival of Music. She has held artist-in-residence positions at the Taft Museum of Art\, pianoSonoma festival and Lake George Music Festival\, as well as a recent role as Emerging Artist at the Victoria Bach Festival. \n\n\n\n\n\n \n \n\n\n\n\n\n\n\n\n\n\nBeyond the stage\, Anita serves as Artistic Director for several organizations\, including Tallgrass Chamber Music Festival and the Juliani Ensemble\, bringing her distinctive creative vision to program curation\, artist selection and overall strategy. As an educator\, Ms. Graef holds faculty positions at Roosevelt University’s Chicago College of Performing Arts and serves as Chair of Strings at Summer Music in Tuscany festival. Winner of the 2022 Gheens Young Artist Award and the 2021 American Prize\, she is recognized for both her artistry and her reputation as a musician who is equally at home exploring traditional as well as contemporary works\, along with a deep commitment to service\, outreach and education. \nBorn into a family of professional musicians\, Anita began piano studies in early childhood and took up the cello at age four\, making her concerto debut at twelve. She holds a Bachelor’s degree from the University of Michigan School of Music\, Theatre\, and Dance and a Master’s degree from the University of Cincinnati College-Conservatory of Music. \nWhen not performing\, Anita enjoys reading\, cooking\, crochet\, weightlifting\, long walks\, exploring new locales\, and is always in search of the perfect matcha latte. \nMs. Graef performs on a 1923 Italian cello by Ferdinando Garimberti.
URL:https://www.apalachicolabay.org/event/anita-graef/
LOCATION:Trinity Episcopal Church\, 79 6th Street\, Apalachicola\, 32320
GEO:29.72528;-84.9859803
X-APPLE-STRUCTURED-LOCATION;VALUE=URI;X-ADDRESS=Trinity Episcopal Church 79 6th Street Apalachicola 32320;X-APPLE-RADIUS=500;X-TITLE=79 6th Street:geo:-84.9859803,29.72528
END:VEVENT
END:VCALENDAR